Workbook
Name 账户内互转和还款项目: #REF!
Name 账户内互转和还款项目: '2月'!#REF!
Name 账户内互转和还款项目: '1月'!#REF!
Name 账户内互转和还款项目: '3月'!#REF!
Name 账户内互转和还款项目: '4月'!#REF!
Name 账户内互转和还款项目: '12月'!#REF!
Name 账户内互转和还款项目: '11月'!#REF!
Name 账户内互转和还款项目: '10月'!#REF!
Name 账户内互转和还款项目: '8月'!#REF!
Name 账户内互转和还款项目: '9月'!#REF!
Name 账户内互转和还款项目: '7月'!#REF!
Name 账户内互转和还款项目: '6月'!#REF!
Name 账户内互转和还款项目: '5月'!#REF!

Sheet 年度数据总览
B2: 年度数据总览
B4: 点击进入宝藏！
B5: 优昙钵の记账本
B8: 今天是 | C8: =TEXT(TODAY(),"yyyy年m月") -> 2026年10月
B10: =DAY(TODAY()) -> 25
B13: 距离 | C13: =TEXT(TODAY(),"yyyy年") -> 2026年 | D13: 结束
B15: ="还有"&DATEDIF(TODAY(),DATE((YEAR(TODAY())),12,31),"d")&"天" -> 还有67天 | F15: 每月收支关键数据汇总
F17: 分类 | G17: 1月 | H17: 2月 | I17: 3月 | J17: 4月 | K17: 5月 | L17: 6月 | M17: 7月 | N17: 8月 | O17: 9月 | P17: 10月 | Q17: 11月 | R17: 12月 | S17: 汇总
B18: 各月账单 | F18: 最大一笔收入细项 | G18: =IFERROR('1月'!$G$10,"") -> 工作薪资 | H18: =IFERROR('2月'!$G$10,"") -> 待填入 | I18: =IFERROR('3月'!$G$10,"") -> 待填入 | J18: =IFERROR('4月'!$G$10,"") -> 待填入 | K18: =IFERROR('5月'!$G$10,"") -> 待填入 | L18: =IFERROR('6月'!$G$10,"") -> 待填入 | M18: =IFERROR('7月'!$G$10,"") -> 待填入 | N18: =IFERROR('8月'!$G$10,"") -> 待填入 | O18: =IFERROR('9月'!$G$10,"") -> 待填入 | P18: =IFERROR('10月'!$G$10,"") -> 待填入 | Q18: =IFERROR('11月'!$G$10,"") -> 待填入 | R18: =IFERROR('12月'!$G$10,"") -> 待填入
F19: 最大一笔收入金额 | G19: =IFERROR('1月'!$H$10,"") -> 2000 | H19: =IFERROR('2月'!$H$10,"") -> 0 | I19: =IFERROR('3月'!$H$10,"") -> 0 | J19: =IFERROR('4月'!$H$10,"") -> 0 | K19: =IFERROR('5月'!$H$10,"") -> 0 | L19: =IFERROR('6月'!$H$10,"") -> 0 | M19: =IFERROR('7月'!$H$10,"") -> 0 | N19: =IFERROR('8月'!$H$10,"") -> 0 | O19: =IFERROR('9月'!$H$10,"") -> 0 | P19: =IFERROR('10月'!$H$10,"") -> 0 | Q19: =IFERROR('11月'!$H$10,"") -> 0 | R19: =IFERROR('12月'!$H$10,"") -> 0
F20: 最大一笔收入日期 | G20: =IFERROR('1月'!$J$10,"") -> 2 | H20: =IFERROR('2月'!$J$10,"") -> 待填入 | I20: =IFERROR('3月'!$J$10,"") -> 待填入 | J20: =IFERROR('4月'!$J$10,"") -> 待填入 | K20: =IFERROR('5月'!$J$10,"") -> 待填入 | L20: =IFERROR('6月'!$J$10,"") -> 待填入 | M20: =IFERROR('7月'!$J$10,"") -> 待填入 | N20: =IFERROR('8月'!$J$10,"") -> 待填入 | O20: =IFERROR('9月'!$J$10,"") -> 待填入 | P20: =IFERROR('10月'!$J$10,"") -> 待填入 | Q20: =IFERROR('11月'!$J$10,"") -> 待填入 | R20: =IFERROR('12月'!$J$10,"") -> 待填入
F21: 最大一笔支出细项 | G21: =IFERROR('1月'!$K$10,"") -> 影音会员 | H21: =IFERROR('2月'!$K$10,"") -> 待填入 | I21: =IFERROR('3月'!$K$10,"") -> 待填入 | J21: =IFERROR('4月'!$K$10,"") -> 待填入 | K21: =IFERROR('5月'!$K$10,"") -> 待填入 | L21: =IFERROR('6月'!$K$10,"") -> 待填入 | M21: =IFERROR('7月'!$K$10,"") -> 待填入 | N21: =IFERROR('8月'!$K$10,"") -> 待填入 | O21: =IFERROR('9月'!$K$10,"") -> 待填入 | P21: =IFERROR('10月'!$K$10,"") -> 待填入 | Q21: =IFERROR('11月'!$K$10,"") -> 待填入 | R21: =IFERROR('12月'!$K$10,"") -> 待填入
F22: 最大一笔支出金额 | G22: =IFERROR('1月'!$M$10,"") -> 600 | H22: =IFERROR('2月'!$M$10,"") -> 0 | I22: =IFERROR('3月'!$M$10,"") -> 0 | J22: =IFERROR('4月'!$M$10,"") -> 0 | K22: =IFERROR('5月'!$M$10,"") -> 0 | L22: =IFERROR('6月'!$M$10,"") -> 0 | M22: =IFERROR('7月'!$M$10,"") -> 0 | N22: =IFERROR('8月'!$M$10,"") -> 0 | O22: =IFERROR('9月'!$M$10,"") -> 0 | P22: =IFERROR('10月'!$M$10,"") -> 0 | Q22: =IFERROR('11月'!$M$10,"") -> 0 | R22: =IFERROR('12月'!$M$10,"") -> 0
F23: 最大一笔支出日期 | G23: =IFERROR('1月'!$O$10,"") -> 5 | H23: =IFERROR('2月'!$O$10,"") -> 待填入 | I23: =IFERROR('3月'!$O$10,"") -> 待填入 | J23: =IFERROR('4月'!$O$10,"") -> 待填入 | K23: =IFERROR('5月'!$O$10,"") -> 待填入 | L23: =IFERROR('6月'!$O$10,"") -> 待填入 | M23: =IFERROR('7月'!$O$10,"") -> 待填入 | N23: =IFERROR('8月'!$O$10,"") -> 待填入 | O23: =IFERROR('9月'!$O$10,"") -> 待填入 | P23: =IFERROR('10月'!$O$10,"") -> 待填入 | Q23: =IFERROR('11月'!$O$10,"") -> 待填入 | R23: =IFERROR('12月'!$O$10,"") -> 待填入
F24: 每月总支出 | G24: =IFERROR('1月'!$I$6,"") -> 2000 | H24: =IFERROR('2月'!$I$6,"") -> 0 | I24: =IFERROR('3月'!$I$6,"") -> 0 | J24: =IFERROR('4月'!$I$6,"") -> 0 | K24: =IFERROR('5月'!$I$6,"") -> 0 | L24: =IFERROR('6月'!$I$6,"") -> 0 | M24: =IFERROR('7月'!$I$6,"") -> 0 | N24: =IFERROR('8月'!$I$6,"") -> 0 | O24: =IFERROR('9月'!$I$6,"") -> 0 | P24: =IFERROR('10月'!$I$6,"") -> 0 | Q24: =IFERROR('11月'!$I$6,"") -> 0 | R24: =IFERROR('12月'!$I$6,"") -> 0 | S24: =SUM(G24:R24) -> 2000
F25: 每月总收入 | G25: =IFERROR('1月'!$G$6,"") -> 3000 | H25: =IFERROR('2月'!$G$6,"") -> 0 | I25: =IFERROR('3月'!$G$6,"") -> 0 | J25: =IFERROR('4月'!$G$6,"") -> 0 | K25: =IFERROR('5月'!$G$6,"") -> 0 | L25: =IFERROR('6月'!$G$6,"") -> 0 | M25: =IFERROR('7月'!$G$6,"") -> 0 | N25: =IFERROR('8月'!$G$6,"") -> 0 | O25: =IFERROR('9月'!$G$6,"") -> 0 | P25: =IFERROR('10月'!$G$6,"") -> 0 | Q25: =IFERROR('11月'!$G$6,"") -> 0 | R25: =IFERROR('12月'!$G$6,"") -> 0 | S25: =SUM(G25:R25) -> 3000
F26: 每月结余 | G26: =IFERROR('1月'!$K$6,"") -> 1000 | H26: =IFERROR('2月'!$K$6,"") -> 0 | I26: =IFERROR('3月'!$K$6,"") -> 0 | J26: =IFERROR('4月'!$K$6,"") -> 0 | K26: =IFERROR('5月'!$K$6,"") -> 0 | L26: =IFERROR('6月'!$K$6,"") -> 0 | M26: =IFERROR('7月'!$K$6,"") -> 0 | N26: =IFERROR('8月'!$K$6,"") -> 0 | O26: =IFERROR('9月'!$K$6,"") -> 0 | P26: =IFERROR('10月'!$K$6,"") -> 0 | Q26: =IFERROR('11月'!$K$6,"") -> 0 | R26: =IFERROR('12月'!$K$6,"") -> 0 | S26: =SUM(G26:R26) -> 1000
F27: 月末余额 | G27: =IFERROR('1月'!$M$6,"") -> 16000 | H27: =IFERROR('2月'!$M$6,"") -> 16000 | I27: =IFERROR('3月'!$M$6,"") -> 16000 | J27: =IFERROR('4月'!$M$6,"") -> 16000 | K27: =IFERROR('5月'!$M$6,"") -> 16000 | L27: =IFERROR('6月'!$M$6,"") -> 16000 | M27: =IFERROR('7月'!$M$6,"") -> 16000 | N27: =IFERROR('8月'!$M$6,"") -> 16000 | O27: =IFERROR('9月'!$M$6,"") -> 16000 | P27: =IFERROR('10月'!$M$6,"") -> 16000 | Q27: =IFERROR('11月'!$M$6,"") -> 16000 | R27: =IFERROR('12月'!$M$6,"") -> 16000
B29: 初始余额盘点 | H29: 收入分类 | N29: 支出分类
H32: 收入大类 | I32: 总金额 | J32: 收入细项 | K32: 总金额2 | N32: 支出大类 | O32: 总金额 | P32: 支出细项 | Q32: 总金额
B33: 具体账户 | C33: 账户分类 | D33: 初始金额 | E33: 记录日期 | H33: 固定收入 | I33: =SUM('1月'!H107,'2月'!H107,'3月'!H107,'4月'!H107,'5月'!H107,'6月'!H107,'7月'!H107,'8月'!H107,'9月'!H107,'10月'!H107,'11月'!H107,'12月'!H107,) -> 2000 | J33: 副业 | K33: =SUM('1月'!J107,'2月'!J107,'3月'!J107,'4月'!J107,'5月'!J107,'6月'!J107,'7月'!J107,'8月'!J107,'9月'!J107,'10月'!J107,'11月'!J107,'12月'!J107,) -> 1000 | N33: 食 | O33: =SUM('1月'!M107,'2月'!M107,'3月'!M107,'4月'!M107,'5月'!M107,'6月'!M107,'7月'!M107,'8月'!M107,'9月'!M107,'10月'!M107,'11月'!M107,'12月'!M107) -> 500 | P33: 买菜 | Q33: =SUM('1月'!O107,'2月'!O107,'3月'!O107,'4月'!O107,'5月'!O107,'6月'!O107,'7月'!O107,'8月'!O107,'9月'!O107,'10月'!O107,'11月'!O107,'12月'!O107) -> 0
B34: 余额宝 | C34: 活期 | D34: 1000 | E34: 46218 | H34: 其它收入 | I34: =SUM('1月'!H108,'2月'!H108,'3月'!H108,'4月'!H108,'5月'!H108,'6月'!H108,'7月'!H108,'8月'!H108,'9月'!H108,'10月'!H108,'11月'!H108,'12月'!H108,) -> 1000 | J34: 工作薪资 | K34: =SUM('1月'!J108,'2月'!J108,'3月'!J108,'4月'!J108,'5月'!J108,'6月'!J108,'7月'!J108,'8月'!J108,'9月'!J108,'10月'!J108,'11月'!J108,'12月'!J108,) -> 2000 | N34: 衣 | O34: =SUM('1月'!M108,'2月'!M108,'3月'!M108,'4月'!M108,'5月'!M108,'6月'!M108,'7月'!M108,'8月'!M108,'9月'!M108,'10月'!M108,'11月'!M108,'12月'!M108) -> 400 | P34: 外食 | Q34: =SUM('1月'!O108,'2月'!O108,'3月'!O108,'4月'!O108,'5月'!O108,'6月'!O108,'7月'!O108,'8月'!O108,'9月'!O108,'10月'!O108,'11月'!O108,'12月'!O108) -> 0
B35: 微信 | C35: 活期 | D35: 2000 | E35: 46218 | H35: 借款归还 | I35: =SUM('1月'!H109,'2月'!H109,'3月'!H109,'4月'!H109,'5月'!H109,'6月'!H109,'7月'!H109,'8月'!H109,'9月'!H109,'10月'!H109,'11月'!H109,'12月'!H109,) -> 0 | J35: 红包 | K35: =SUM('1月'!J109,'2月'!J109,'3月'!J109,'4月'!J109,'5月'!J109,'6月'!J109,'7月'!J109,'8月'!J109,'9月'!J109,'10月'!J109,'11月'!J109,'12月'!J109,) -> 0 | N35: 住 | O35: =SUM('1月'!M109,'2月'!M109,'3月'!M109,'4月'!M109,'5月'!M109,'6月'!M109,'7月'!M109,'8月'!M109,'9月'!M109,'10月'!M109,'11月'!M109,'12月'!M109) -> 0 | P35: 零食饮品 | Q35: =SUM('1月'!O109,'2月'!O109,'3月'!O109,'4月'!O109,'5月'!O109,'6月'!O109,'7月'!O109,'8月'!O109,'9月'!O109,'10月'!O109,'11月'!O109,'12月'!O109) -> 500
B36: 现金 | C36: 活期 | D36: 3000 | E36: 46218 | I36: =SUM('1月'!H110,'2月'!H110,'3月'!H110,'4月'!H110,'5月'!H110,'6月'!H110,'7月'!H110,'8月'!H110,'9月'!H110,'10月'!H110,'11月'!H110,'12月'!H110,) -> 0 | J36: 退费 | K36: =SUM('1月'!J110,'2月'!J110,'3月'!J110,'4月'!J110,'5月'!J110,'6月'!J110,'7月'!J110,'8月'!J110,'9月'!J110,'10月'!J110,'11月'!J110,'12月'!J110,) -> 0 | N36: 行 | O36: =SUM('1月'!M110,'2月'!M110,'3月'!M110,'4月'!M110,'5月'!M110,'6月'!M110,'7月'!M110,'8月'!M110,'9月'!M110,'10月'!M110,'11月'!M110,'12月'!M110) -> 300 | P36: 服饰鞋包 | Q36: =SUM('1月'!O110,'2月'!O110,'3月'!O110,'4月'!O110,'5月'!O110,'6月'!O110,'7月'!O110,'8月'!O110,'9月'!O110,'10月'!O110,'11月'!O110,'12月'!O110) -> 0
B37: XX未还债务 | C37: 待回收款项 | D37: 4000 | E37: 46218 | I37: =SUM('1月'!H111,'2月'!H111,'3月'!H111,'4月'!H111,'5月'!H111,'6月'!H111,'7月'!H111,'8月'!H111,'9月'!H111,'10月'!H111,'11月'!H111,'12月'!H111,) -> 0 | J37: 报销 | K37: =SUM('1月'!J111,'2月'!J111,'3月'!J111,'4月'!J111,'5月'!J111,'6月'!J111,'7月'!J111,'8月'!J111,'9月'!J111,'10月'!J111,'11月'!J111,'12月'!J111,) -> 0 | N37: 娱与学 | O37: =SUM('1月'!M111,'2月'!M111,'3月'!M111,'4月'!M111,'5月'!M111,'6月'!M111,'7月'!M111,'8月'!M111,'9月'!M111,'10月'!M111,'11月'!M111,'12月'!M111) -> 600 | P37: 个护美容 | Q37: =SUM('1月'!O111,'2月'!O111,'3月'!O111,'4月'!O111,'5月'!O111,'6月'!O111,'7月'!O111,'8月'!O111,'9月'!O111,'10月'!O111,'11月'!O111,'12月'!O111) -> 0
B38: 中国银行 | C38: 储蓄 | D38: 5000 | E38: 46218 | I38: =SUM('1月'!H112,'2月'!H112,'3月'!H112,'4月'!H112,'5月'!H112,'6月'!H112,'7月'!H112,'8月'!H112,'9月'!H112,'10月'!H112,'11月'!H112,'12月'!H112,) -> 0 | K38: =SUM('1月'!J112,'2月'!J112,'3月'!J112,'4月'!J112,'5月'!J112,'6月'!J112,'7月'!J112,'8月'!J112,'9月'!J112,'10月'!J112,'11月'!J112,'12月'!J112,) -> 0 | N38: 情感社交 | O38: =SUM('1月'!M112,'2月'!M112,'3月'!M112,'4月'!M112,'5月'!M112,'6月'!M112,'7月'!M112,'8月'!M112,'9月'!M112,'10月'!M112,'11月'!M112,'12月'!M112) -> 200 | P38: 房租/房贷 | Q38: =SUM('1月'!O112,'2月'!O112,'3月'!O112,'4月'!O112,'5月'!O112,'6月'!O112,'7月'!O112,'8月'!O112,'9月'!O112,'10月'!O112,'11月'!O112,'12月'!O112) -> 0
B39: 花呗负债 | C39: 负债 | D39: 0 | E39: 46218 | I39: =SUM('1月'!H113,'2月'!H113,'3月'!H113,'4月'!H113,'5月'!H113,'6月'!H113,'7月'!H113,'8月'!H113,'9月'!H113,'10月'!H113,'11月'!H113,'12月'!H113,) -> 0 | K39: =SUM('1月'!J113,'2月'!J113,'3月'!J113,'4月'!J113,'5月'!J113,'6月'!J113,'7月'!J113,'8月'!J113,'9月'!J113,'10月'!J113,'11月'!J113,'12月'!J113,) -> 0 | N39: 医疗 | O39: =SUM('1月'!M113,'2月'!M113,'3月'!M113,'4月'!M113,'5月'!M113,'6月'!M113,'7月'!M113,'8月'!M113,'9月'!M113,'10月'!M113,'11月'!M113,'12月'!M113) -> 0 | P39: 水电燃气 | Q39: =SUM('1月'!O113,'2月'!O113,'3月'!O113,'4月'!O113,'5月'!O113,'6月'!O113,'7月'!O113,'8月'!O113,'9月'!O113,'10月'!O113,'11月'!O113,'12月'!O113) -> 0
I40: =SUM('1月'!H114,'2月'!H114,'3月'!H114,'4月'!H114,'5月'!H114,'6月'!H114,'7月'!H114,'8月'!H114,'9月'!H114,'10月'!H114,'11月'!H114,'12月'!H114,) -> 0 | K40: =SUM('1月'!J114,'2月'!J114,'3月'!J114,'4月'!J114,'5月'!J114,'6月'!J114,'7月'!J114,'8月'!J114,'9月'!J114,'10月'!J114,'11月'!J114,'12月'!J114,) -> 0 | N40: 金融往来 | O40: =SUM('1月'!M114,'2月'!M114,'3月'!M114,'4月'!M114,'5月'!M114,'6月'!M114,'7月'!M114,'8月'!M114,'9月'!M114,'10月'!M114,'11月'!M114,'12月'!M114) -> 0 | P40: 网络通讯 | Q40: =SUM('1月'!O114,'2月'!O114,'3月'!O114,'4月'!O114,'5月'!O114,'6月'!O114,'7月'!O114,'8月'!O114,'9月'!O114,'10月'!O114,'11月'!O114,'12月'!O114) -> 0
I41: =SUM('1月'!H115,'2月'!H115,'3月'!H115,'4月'!H115,'5月'!H115,'6月'!H115,'7月'!H115,'8月'!H115,'9月'!H115,'10月'!H115,'11月'!H115,'12月'!H115,) -> 0 | K41: =SUM('1月'!J115,'2月'!J115,'3月'!J115,'4月'!J115,'5月'!J115,'6月'!J115,'7月'!J115,'8月'!J115,'9月'!J115,'10月'!J115,'11月'!J115,'12月'!J115,) -> 0 | N41: 其他杂项 | O41: =SUM('1月'!M115,'2月'!M115,'3月'!M115,'4月'!M115,'5月'!M115,'6月'!M115,'7月'!M115,'8月'!M115,'9月'!M115,'10月'!M115,'11月'!M115,'12月'!M115) -> 0 | P41: 家居日用 | Q41: =SUM('1月'!O115,'2月'!O115,'3月'!O115,'4月'!O115,'5月'!O115,'6月'!O115,'7月'!O115,'8月'!O115,'9月'!O115,'10月'!O115,'11月'!O115,'12月'!O115) -> 0
I42: =SUM('1月'!H116,'2月'!H116,'3月'!H116,'4月'!H116,'5月'!H116,'6月'!H116,'7月'!H116,'8月'!H116,'9月'!H116,'10月'!H116,'11月'!H116,'12月'!H116,) -> 0 | K42: =SUM('1月'!J116,'2月'!J116,'3月'!J116,'4月'!J116,'5月'!J116,'6月'!J116,'7月'!J116,'8月'!J116,'9月'!J116,'10月'!J116,'11月'!J116,'12月'!J116,) -> 0 | O42: =SUM('1月'!M116,'2月'!M116,'3月'!M116,'4月'!M116,'5月'!M116,'6月'!M116,'7月'!M116,'8月'!M116,'9月'!M116,'10月'!M116,'11月'!M116,'12月'!M116) -> 0 | P42: 住宿 | Q42: =SUM('1月'!O116,'2月'!O116,'3月'!O116,'4月'!O116,'5月'!O116,'6月'!O116,'7月'!O116,'8月'!O116,'9月'!O116,'10月'!O116,'11月'!O116,'12月'!O116) -> 0
I43: =SUM('1月'!H117,'2月'!H117,'3月'!H117,'4月'!H117,'5月'!H117,'6月'!H117,'7月'!H117,'8月'!H117,'9月'!H117,'10月'!H117,'11月'!H117,'12月'!H117,) -> 0 | K43: =SUM('1月'!J117,'2月'!J117,'3月'!J117,'4月'!J117,'5月'!J117,'6月'!J117,'7月'!J117,'8月'!J117,'9月'!J117,'10月'!J117,'11月'!J117,'12月'!J117,) -> 0 | O43: =SUM('1月'!M117,'2月'!M117,'3月'!M117,'4月'!M117,'5月'!M117,'6月'!M117,'7月'!M117,'8月'!M117,'9月'!M117,'10月'!M117,'11月'!M117,'12月'!M117) -> 0 | P43: 公共交通 | Q43: =SUM('1月'!O117,'2月'!O117,'3月'!O117,'4月'!O117,'5月'!O117,'6月'!O117,'7月'!O117,'8月'!O117,'9月'!O117,'10月'!O117,'11月'!O117,'12月'!O117) -> 0
I44: =SUM('1月'!H118,'2月'!H118,'3月'!H118,'4月'!H118,'5月'!H118,'6月'!H118,'7月'!H118,'8月'!H118,'9月'!H118,'10月'!H118,'11月'!H118,'12月'!H118,) -> 0 | K44: =SUM('1月'!J118,'2月'!J118,'3月'!J118,'4月'!J118,'5月'!J118,'6月'!J118,'7月'!J118,'8月'!J118,'9月'!J118,'10月'!J118,'11月'!J118,'12月'!J118,) -> 0 | O44: =SUM('1月'!M118,'2月'!M118,'3月'!M118,'4月'!M118,'5月'!M118,'6月'!M118,'7月'!M118,'8月'!M118,'9月'!M118,'10月'!M118,'11月'!M118,'12月'!M118) -> 0 | P44: 打车/租车 | Q44: =SUM('1月'!O118,'2月'!O118,'3月'!O118,'4月'!O118,'5月'!O118,'6月'!O118,'7月'!O118,'8月'!O118,'9月'!O118,'10月'!O118,'11月'!O118,'12月'!O118) -> 0
I45: =SUM('1月'!H119,'2月'!H119,'3月'!H119,'4月'!H119,'5月'!H119,'6月'!H119,'7月'!H119,'8月'!H119,'9月'!H119,'10月'!H119,'11月'!H119,'12月'!H119,) -> 0 | K45: =SUM('1月'!J119,'2月'!J119,'3月'!J119,'4月'!J119,'5月'!J119,'6月'!J119,'7月'!J119,'8月'!J119,'9月'!J119,'10月'!J119,'11月'!J119,'12月'!J119,) -> 0 | O45: =SUM('1月'!M119,'2月'!M119,'3月'!M119,'4月'!M119,'5月'!M119,'6月'!M119,'7月'!M119,'8月'!M119,'9月'!M119,'10月'!M119,'11月'!M119,'12月'!M119) -> 0 | P45: 游戏/娱乐 | Q45: =SUM('1月'!O119,'2月'!O119,'3月'!O119,'4月'!O119,'5月'!O119,'6月'!O119,'7月'!O119,'8月'!O119,'9月'!O119,'10月'!O119,'11月'!O119,'12月'!O119) -> 0
I46: =SUM('1月'!H120,'2月'!H120,'3月'!H120,'4月'!H120,'5月'!H120,'6月'!H120,'7月'!H120,'8月'!H120,'9月'!H120,'10月'!H120,'11月'!H120,'12月'!H120,) -> 0 | K46: =SUM('1月'!J120,'2月'!J120,'3月'!J120,'4月'!J120,'5月'!J120,'6月'!J120,'7月'!J120,'8月'!J120,'9月'!J120,'10月'!J120,'11月'!J120,'12月'!J120,) -> 0 | O46: =SUM('1月'!M120,'2月'!M120,'3月'!M120,'4月'!M120,'5月'!M120,'6月'!M120,'7月'!M120,'8月'!M120,'9月'!M120,'10月'!M120,'11月'!M120,'12月'!M120) -> 0 | P46: 书籍课程 | Q46: =SUM('1月'!O120,'2月'!O120,'3月'!O120,'4月'!O120,'5月'!O120,'6月'!O120,'7月'!O120,'8月'!O120,'9月'!O120,'10月'!O120,'11月'!O120,'12月'!O120) -> 0
I47: =SUM('1月'!H121,'2月'!H121,'3月'!H121,'4月'!H121,'5月'!H121,'6月'!H121,'7月'!H121,'8月'!H121,'9月'!H121,'10月'!H121,'11月'!H121,'12月'!H121,) -> 0 | K47: =SUM('1月'!J121,'2月'!J121,'3月'!J121,'4月'!J121,'5月'!J121,'6月'!J121,'7月'!J121,'8月'!J121,'9月'!J121,'10月'!J121,'11月'!J121,'12月'!J121,) -> 0 | O47: =SUM('1月'!M121,'2月'!M121,'3月'!M121,'4月'!M121,'5月'!M121,'6月'!M121,'7月'!M121,'8月'!M121,'9月'!M121,'10月'!M121,'11月'!M121,'12月'!M121) -> 0 | P47: 运动健身 | Q47: =SUM('1月'!O121,'2月'!O121,'3月'!O121,'4月'!O121,'5月'!O121,'6月'!O121,'7月'!O121,'8月'!O121,'9月'!O121,'10月'!O121,'11月'!O121,'12月'!O121) -> 0
I48: =SUM('1月'!H122,'2月'!H122,'3月'!H122,'4月'!H122,'5月'!H122,'6月'!H122,'7月'!H122,'8月'!H122,'9月'!H122,'10月'!H122,'11月'!H122,'12月'!H122,) -> 0 | K48: =SUM('1月'!J122,'2月'!J122,'3月'!J122,'4月'!J122,'5月'!J122,'6月'!J122,'7月'!J122,'8月'!J122,'9月'!J122,'10月'!J122,'11月'!J122,'12月'!J122,) -> 0 | O48: =SUM('1月'!M122,'2月'!M122,'3月'!M122,'4月'!M122,'5月'!M122,'6月'!M122,'7月'!M122,'8月'!M122,'9月'!M122,'10月'!M122,'11月'!M122,'12月'!M122) -> 0 | P48: 影音会员 | Q48: =SUM('1月'!O122,'2月'!O122,'3月'!O122,'4月'!O122,'5月'!O122,'6月'!O122,'7月'!O122,'8月'!O122,'9月'!O122,'10月'!O122,'11月'!O122,'12月'!O122) -> 600
I49: =SUM('1月'!H123,'2月'!H123,'3月'!H123,'4月'!H123,'5月'!H123,'6月'!H123,'7月'!H123,'8月'!H123,'9月'!H123,'10月'!H123,'11月'!H123,'12月'!H123,) -> 0 | K49: =SUM('1月'!J123,'2月'!J123,'3月'!J123,'4月'!J123,'5月'!J123,'6月'!J123,'7月'!J123,'8月'!J123,'9月'!J123,'10月'!J123,'11月'!J123,'12月'!J123,) -> 0 | O49: =SUM('1月'!M123,'2月'!M123,'3月'!M123,'4月'!M123,'5月'!M123,'6月'!M123,'7月'!M123,'8月'!M123,'9月'!M123,'10月'!M123,'11月'!M123,'12月'!M123) -> 0 | P49: 旅游 | Q49: =SUM('1月'!O123,'2月'!O123,'3月'!O123,'4月'!O123,'5月'!O123,'6月'!O123,'7月'!O123,'8月'!O123,'9月'!O123,'10月'!O123,'11月'!O123,'12月'!O123) -> 300
I50: =SUM('1月'!H124,'2月'!H124,'3月'!H124,'4月'!H124,'5月'!H124,'6月'!H124,'7月'!H124,'8月'!H124,'9月'!H124,'10月'!H124,'11月'!H124,'12月'!H124,) -> 0 | K50: =SUM('1月'!J124,'2月'!J124,'3月'!J124,'4月'!J124,'5月'!J124,'6月'!J124,'7月'!J124,'8月'!J124,'9月'!J124,'10月'!J124,'11月'!J124,'12月'!J124,) -> 0 | O50: =SUM('1月'!M124,'2月'!M124,'3月'!M124,'4月'!M124,'5月'!M124,'6月'!M124,'7月'!M124,'8月'!M124,'9月'!M124,'10月'!M124,'11月'!M124,'12月'!M124) -> 0 | P50: 亲友礼物 | Q50: =SUM('1月'!O124,'2月'!O124,'3月'!O124,'4月'!O124,'5月'!O124,'6月'!O124,'7月'!O124,'8月'!O124,'9月'!O124,'10月'!O124,'11月'!O124,'12月'!O124) -> 400
I51: =SUM('1月'!H125,'2月'!H125,'3月'!H125,'4月'!H125,'5月'!H125,'6月'!H125,'7月'!H125,'8月'!H125,'9月'!H125,'10月'!H125,'11月'!H125,'12月'!H125,) -> 0 | K51: =SUM('1月'!J125,'2月'!J125,'3月'!J125,'4月'!J125,'5月'!J125,'6月'!J125,'7月'!J125,'8月'!J125,'9月'!J125,'10月'!J125,'11月'!J125,'12月'!J125,) -> 0 | O51: =SUM('1月'!M125,'2月'!M125,'3月'!M125,'4月'!M125,'5月'!M125,'6月'!M125,'7月'!M125,'8月'!M125,'9月'!M125,'10月'!M125,'11月'!M125,'12月'!M125) -> 0 | P51: 聚餐请客 | Q51: =SUM('1月'!O125,'2月'!O125,'3月'!O125,'4月'!O125,'5月'!O125,'6月'!O125,'7月'!O125,'8月'!O125,'9月'!O125,'10月'!O125,'11月'!O125,'12月'!O125) -> 0
I52: =SUM('1月'!H126,'2月'!H126,'3月'!H126,'4月'!H126,'5月'!H126,'6月'!H126,'7月'!H126,'8月'!H126,'9月'!H126,'10月'!H126,'11月'!H126,'12月'!H126,) -> 0 | K52: =SUM('1月'!J126,'2月'!J126,'3月'!J126,'4月'!J126,'5月'!J126,'6月'!J126,'7月'!J126,'8月'!J126,'9月'!J126,'10月'!J126,'11月'!J126,'12月'!J126,) -> 0 | O52: =SUM('1月'!M126,'2月'!M126,'3月'!M126,'4月'!M126,'5月'!M126,'6月'!M126,'7月'!M126,'8月'!M126,'9月'!M126,'10月'!M126,'11月'!M126,'12月'!M126) -> 0 | P52: 红包/随礼 | Q52: =SUM('1月'!O126,'2月'!O126,'3月'!O126,'4月'!O126,'5月'!O126,'6月'!O126,'7月'!O126,'8月'!O126,'9月'!O126,'10月'!O126,'11月'!O126,'12月'!O126) -> 0
...

Sheet 1月
B2: =$B$5&"月账单" -> 1月账单
B5: 1 | G5: 本月总收入 | I5: 本月总支出 | K5: 本月结余 | M5: 月末余额
G6: =I25 -> 3000 | I6: =S25 -> 2000 | K6: =G6-I6 -> 1000 | M6: =SUM(K6,年度数据总览!D79) -> 16000
B7: ="今日是"&TEXT(TODAY(),"yyyy年m月d日") -> 今日是2026年10月25日
B8: 距离 | C8: =TEXT(TODAY(),"yyyy年") -> 2026年
B9: 结束还有 | C9: =DATEDIF(TODAY(),DATE((YEAR(TODAY())),12,31),"d") -> 67 | G9: 最大一笔收入细项 | H9: ="最大一笔"&G10&"金额" -> 最大一笔工作薪资金额 | J9: 对应日期 | K9: 最大一笔日常支出细项 | M9: ="最大一笔"&K10&"金额" -> 最大一笔影音会员金额 | O9: 对应日期 | Q9: 最大支出使用人 | S9: =S6&"支出总额" -> 支出总额
G10: =IFERROR(INDEX(表6_1026[收入细项],MATCH(MAX(表6_1026[金额]),表6_1026[金额],0)),"待填入") -> 工作薪资 | H10: =IFERROR(MAX(表6_1026[金额]),0) -> 2000 | J10: =IFERROR(INDEX(表6_1026[日期],MATCH(MAX(表6_1026[金额]),表6_1026[金额],0)),"待填入") -> 2 | K10: =IFERROR(INDEX(表6_35[支出细项],MATCH(MAX(表6_35[金额]),表6_35[金额],0)),"待填入") -> 影音会员 | M10: =IFERROR(MAX(表6_35[金额]),0) -> 600 | O10: =IFERROR(INDEX(表6_35[日期],MATCH(MAX(表6_35[金额]),表6_35[金额],0)),"待填入") -> 5 | Q10: =IFERROR(INDEX(AD30:AD73,MATCH(MAX(AE30:AE73),AE30:AE73,0)),"待填入") -> 自己 | S10: =IFERROR(MAX(AE30:AE73),0) -> 1400
G25: 本月总收入 | I25: =SUM(表6_1026[金额]) -> 3000 | Q25: 本月总支出 | S25: =SUM(U30:U250) -> 2000
AA26: 如需空白处新增内容，请在此行之上进行新增编辑，以免与其它数据产生冲突
I27: 1 | S27: 1
G28: 手动填写 | H28: 下拉筛选 | I28: 下拉筛选 | J28: 手动填写 | K28: 手动填写 | L28: 下拉筛选 | M28: 自动生成 | N28: 手动填写 | O28: 手动填写 | Q28: 手动填写 | R28: 下拉筛选 | S28: 下拉筛选 | T28: 手动填写 | U28: 手动填写 | V28: 下拉筛选 | W28: 自动生成 | X28: 手动填写 | Y28: 手动填写 | AA28: 收入大类筛选 | AD28: 支出使用人 | AG28: 支出大类 | AJ28: 支出细项
B29: 对账账户 | C29: 本月实时金额 | G29: 日期 | H29: 收入大类 | I29: 收入细项 | J29: 具体项目 | K29: 金额 | L29: 收入账户 | M29: 账户大类 | N29: 归属方 | O29: 备注 | Q29: 日期 | R29: 支出大类 | S29: 支出细项 | T29: 具体项目 | U29: 金额 | V29: 支出账户 | W29: 账户大类 | X29: 支出使用人 | Y29: 备注 | AA29: 收入大类 | AB29: 求和项:金额 | AD29: 支出使用人 | AE29: 求和项:金额 | AG29: 支出大类 | AH29: 求和项:金额 | AJ29: 支出细项 | AK29: 求和项:金额
B30: =IF(AND(年度数据总览!B34<>0),年度数据总览!B34,"") -> 余额宝 | C30: =IFERROR(IF(年度数据总览!D34-SUMIF('1月'!$V$30:$V$250,'1月'!$B30,'1月'!$U$30:$U$250)+SUMIF('1月'!$L$30:$L$75,'1月'!$B30,'1月'!$K$30:$K$75)-SUMIF('1月'!$J$85:$J$99,'1月'!$B30,'1月'!$K$85:$K$99)+SUMIF('1月'!$L$85:$L$99,'1月'!$B30,'1月'!$N$85:$N$99)=0,0,年度数据总览!D34-SUMIF('1月'!$V$30:$V$250,'1月'!$B30,'1月'!$U$30:$U$250)+SUMIF('1月'!$L$30:$L$75,'1月'!$B30,'1月'!$K$30:$K$75)-SUMIF('1月'!$J$85:$J$99,'1月'!$B30,'1月'!$K$85:$K$99)+SUMIF('1月'!$L$85:$L$99,'1月'!$B30,'1月'!$N$85:$N$99)),0) -> 701 | G30: 1 | H30: 其它收入 | I30: 副业 | K30: 1000 | L30: 余额宝 | M30: =IFERROR(VLOOKUP(L30,年度数据总览!$B$34:$C$51,2,FALSE),"") -> 活期 | N30: 自己 | Q30: 1 | R30: 食 | S30: 零食饮品 | T30: 甜点 | U30: 500 | V30: 花呗负债 | W30: =IFERROR(VLOOKUP(V30,年度数据总览!$B$34:$C$51,2,FALSE),"") -> 负债 | X30: 自己 | AA30: 固定收入 | AB30: 2000 | AD30: 自己 | AE30: 1400 | AG30: 情感社交 | AH30: 200 | AJ30: 亲友礼物 | AK30: 400
B31: =IF(AND(年度数据总览!B35<>0),年度数据总览!B35,"") -> 微信 | C31: =IFERROR(IF(年度数据总览!D35-SUMIF('1月'!$V$30:$V$250,'1月'!$B31,'1月'!$U$30:$U$250)+SUMIF('1月'!$L$30:$L$75,'1月'!$B31,'1月'!$K$30:$K$75)-SUMIF('1月'!$J$85:$J$99,'1月'!$B31,'1月'!$K$85:$K$99)+SUMIF('1月'!$L$85:$L$99,'1月'!$B31,'1月'!$N$85:$N$99)=0,0,年度数据总览!D35-SUMIF('1月'!$V$30:$V$250,'1月'!$B31,'1月'!$U$30:$U$250)+SUMIF('1月'!$L$30:$L$75,'1月'!$B31,'1月'!$K$30:$K$75)-SUMIF('1月'!$J$85:$J$99,'1月'!$B31,'1月'!$K$85:$K$99)+SUMIF('1月'!$L$85:$L$99,'1月'!$B31,'1月'!$N$85:$N$99)),0) -> 2300 | G31: 2 | H31: 固定收入 | I31: 工作薪资 | J31: 1月薪资 | K31: 2000 | L31: 中国银行 | M31: =IFERROR(VLOOKUP(L31,年度数据总览!$B$34:$C$51,2,FALSE),"") -> 储蓄 | N31: 自己 | Q31: 2 | R31: 情感社交 | S31: 宠物花销 | T31: 玩具 | U31: 200 | V31: 余额宝 | W31: =IFERROR(VLOOKUP(V31,年度数据总览!$B$34:$C$51,2,FALSE),"") -> 活期 | X31: 多多 | AA31: 其它收入 | AB31: 1000 | AD31: 多多 | AE31: 200 | AG31: 食 | AH31: 500 | AJ31: 零食饮品 | AK31: 500
B32: =IF(AND(年度数据总览!B36<>0),年度数据总览!B36,"") -> 现金 | C32: =IFERROR(IF(年度数据总览!D36-SUMIF('1月'!$V$30:$V$250,'1月'!$B32,'1月'!$U$30:$U$250)+SUMIF('1月'!$L$30:$L$75,'1月'!$B32,'1月'!$K$30:$K$75)-SUMIF('1月'!$J$85:$J$99,'1月'!$B32,'1月'!$K$85:$K$99)+SUMIF('1月'!$L$85:$L$99,'1月'!$B32,'1月'!$N$85:$N$99)=0,0,年度数据总览!D36-SUMIF('1月'!$V$30:$V$250,'1月'!$B32,'1月'!$U$30:$U$250)+SUMIF('1月'!$L$30:$L$75,'1月'!$B32,'1月'!$K$30:$K$75)-SUMIF('1月'!$J$85:$J$99,'1月'!$B32,'1月'!$K$85:$K$99)+SUMIF('1月'!$L$85:$L$99,'1月'!$B32,'1月'!$N$85:$N$99)),0) -> 3000 | M32: =IFERROR(VLOOKUP(L32,年度数据总览!$B$34:$C$51,2,FALSE),"") | Q32: 3 | R32: 行 | S32: 旅游 | T32: 过路费 | U32: 300 | V32: 微信 | W32: =IFERROR(VLOOKUP(V32,年度数据总览!$B$34:$C$51,2,FALSE),"") -> 活期 | X32: 自己 | AA32: 总计 | AB32: 3000 | AD32: 家人 | AE32: 400 | AG32: 行 | AH32: 300 | AJ32: 宠物花销 | AK32: 200
B33: =IF(AND(年度数据总览!B37<>0),年度数据总览!B37,"") -> XX未还债务 | C33: =IFERROR(IF(年度数据总览!D37-SUMIF('1月'!$V$30:$V$250,'1月'!$B33,'1月'!$U$30:$U$250)+SUMIF('1月'!$L$30:$L$75,'1月'!$B33,'1月'!$K$30:$K$75)-SUMIF('1月'!$J$85:$J$99,'1月'!$B33,'1月'!$K$85:$K$99)+SUMIF('1月'!$L$85:$L$99,'1月'!$B33,'1月'!$N$85:$N$99)=0,0,年度数据总览!D37-SUMIF('1月'!$V$30:$V$250,'1月'!$B33,'1月'!$U$30:$U$250)+SUMIF('1月'!$L$30:$L$75,'1月'!$B33,'1月'!$K$30:$K$75)-SUMIF('1月'!$J$85:$J$99,'1月'!$B33,'1月'!$K$85:$K$99)+SUMIF('1月'!$L$85:$L$99,'1月'!$B33,'1月'!$N$85:$N$99)),0) -> 3000 | M33: =IFERROR(VLOOKUP(L33,年度数据总览!$B$34:$C$51,2,FALSE),"") | Q33: 4 | R33: 衣 | S33: 亲友礼物 | U33: 400 | V33: 微信 | W33: =IFERROR(VLOOKUP(V33,年度数据总览!$B$34:$C$51,2,FALSE),"") -> 活期 | X33: 家人 | AG33: 娱与学 | AH33: 600 | AJ33: 旅游 | AK33: 300
B34: =IF(AND(年度数据总览!B38<>0),年度数据总览!B38,"") -> 中国银行 | C34: =IFERROR(IF(年度数据总览!D38-SUMIF('1月'!$V$30:$V$250,'1月'!$B34,'1月'!$U$30:$U$250)+SUMIF('1月'!$L$30:$L$75,'1月'!$B34,'1月'!$K$30:$K$75)-SUMIF('1月'!$J$85:$J$99,'1月'!$B34,'1月'!$K$85:$K$99)+SUMIF('1月'!$L$85:$L$99,'1月'!$B34,'1月'!$N$85:$N$99)=0,0,年度数据总览!D38-SUMIF('1月'!$V$30:$V$250,'1月'!$B34,'1月'!$U$30:$U$250)+SUMIF('1月'!$L$30:$L$75,'1月'!$B34,'1月'!$K$30:$K$75)-SUMIF('1月'!$J$85:$J$99,'1月'!$B34,'1月'!$K$85:$K$99)+SUMIF('1月'!$L$85:$L$99,'1月'!$B34,'1月'!$N$85:$N$99)),0) -> 7000 | M34: =IFERROR(VLOOKUP(L34,年度数据总览!$B$34:$C$51,2,FALSE),"") | Q34: 5 | R34: 娱与学 | S34: 影音会员 | T34: 地铁跑酷 | U34: 600 | V34: 余额宝 | W34: =IFERROR(VLOOKUP(V34,年度数据总览!$B$34:$C$51,2,FALSE),"") -> 活期 | X34: 自己 | AG34: 衣 | AH34: 400 | AJ34: 影音会员 | AK34: 600
B35: =IF(AND(年度数据总览!B39<>0),年度数据总览!B39,"") -> 花呗负债 | C35: =IFERROR(IF(年度数据总览!D39-SUMIF('1月'!$V$30:$V$250,'1月'!$B35,'1月'!$U$30:$U$250)+SUMIF('1月'!$L$30:$L$75,'1月'!$B35,'1月'!$K$30:$K$75)-SUMIF('1月'!$J$85:$J$99,'1月'!$B35,'1月'!$K$85:$K$99)+SUMIF('1月'!$L$85:$L$99,'1月'!$B35,'1月'!$N$85:$N$99)=0,0,年度数据总览!D39-SUMIF('1月'!$V$30:$V$250,'1月'!$B35,'1月'!$U$30:$U$250)+SUMIF('1月'!$L$30:$L$75,'1月'!$B35,'1月'!$K$30:$K$75)-SUMIF('1月'!$J$85:$J$99,'1月'!$B35,'1月'!$K$85:$K$99)+SUMIF('1月'!$L$85:$L$99,'1月'!$B35,'1月'!$N$85:$N$99)),0) -> -1 | M35: =IFERROR(VLOOKUP(L35,年度数据总览!$B$34:$C$51,2,FALSE),"") | W35: =IFERROR(VLOOKUP(V35,年度数据总览!$B$34:$C$51,2,FALSE),"") | AG35: 总计 | AH35: 2000 | AJ35: 总计 | AK35: 2000
B36: =IF(AND(年度数据总览!B40<>0),年度数据总览!B40,"") | C36: =IFERROR(IF(年度数据总览!D40-SUMIF('1月'!$V$30:$V$250,'1月'!$B36,'1月'!$U$30:$U$250)+SUMIF('1月'!$L$30:$L$75,'1月'!$B36,'1月'!$K$30:$K$75)-SUMIF('1月'!$J$85:$J$99,'1月'!$B36,'1月'!$K$85:$K$99)+SUMIF('1月'!$L$85:$L$99,'1月'!$B36,'1月'!$N$85:$N$99)=0,0,年度数据总览!D40-SUMIF('1月'!$V$30:$V$250,'1月'!$B36,'1月'!$U$30:$U$250)+SUMIF('1月'!$L$30:$L$75,'1月'!$B36,'1月'!$K$30:$K$75)-SUMIF('1月'!$J$85:$J$99,'1月'!$B36,'1月'!$K$85:$K$99)+SUMIF('1月'!$L$85:$L$99,'1月'!$B36,'1月'!$N$85:$N$99)),0) -> 0 | M36: =IFERROR(VLOOKUP(L36,年度数据总览!$B$34:$C$51,2,FALSE),"") | W36: =IFERROR(VLOOKUP(V36,年度数据总览!$B$34:$C$51,2,FALSE),"")
B37: =IF(AND(年度数据总览!B41<>0),年度数据总览!B41,"") | C37: =IFERROR(IF(年度数据总览!D41-SUMIF('1月'!$V$30:$V$250,'1月'!$B37,'1月'!$U$30:$U$250)+SUMIF('1月'!$L$30:$L$75,'1月'!$B37,'1月'!$K$30:$K$75)-SUMIF('1月'!$J$85:$J$99,'1月'!$B37,'1月'!$K$85:$K$99)+SUMIF('1月'!$L$85:$L$99,'1月'!$B37,'1月'!$N$85:$N$99)=0,0,年度数据总览!D41-SUMIF('1月'!$V$30:$V$250,'1月'!$B37,'1月'!$U$30:$U$250)+SUMIF('1月'!$L$30:$L$75,'1月'!$B37,'1月'!$K$30:$K$75)-SUMIF('1月'!$J$85:$J$99,'1月'!$B37,'1月'!$K$85:$K$99)+SUMIF('1月'!$L$85:$L$99,'1月'!$B37,'1月'!$N$85:$N$99)),0) -> 0 | M37: =IFERROR(VLOOKUP(L37,年度数据总览!$B$34:$C$51,2,FALSE),"") | W37: =IFERROR(VLOOKUP(V37,年度数据总览!$B$34:$C$51,2,FALSE),"")
B38: =IF(AND(年度数据总览!B42<>0),年度数据总览!B42,"") | C38: =IFERROR(IF(年度数据总览!D42-SUMIF('1月'!$V$30:$V$250,'1月'!$B38,'1月'!$U$30:$U$250)+SUMIF('1月'!$L$30:$L$75,'1月'!$B38,'1月'!$K$30:$K$75)-SUMIF('1月'!$J$85:$J$99,'1月'!$B38,'1月'!$K$85:$K$99)+SUMIF('1月'!$L$85:$L$99,'1月'!$B38,'1月'!$N$85:$N$99)=0,0,年度数据总览!D42-SUMIF('1月'!$V$30:$V$250,'1月'!$B38,'1月'!$U$30:$U$250)+SUMIF('1月'!$L$30:$L$75,'1月'!$B38,'1月'!$K$30:$K$75)-SUMIF('1月'!$J$85:$J$99,'1月'!$B38,'1月'!$K$85:$K$99)+SUMIF('1月'!$L$85:$L$99,'1月'!$B38,'1月'!$N$85:$N$99)),0) -> 0 | M38: =IFERROR(VLOOKUP(L38,年度数据总览!$B$34:$C$51,2,FALSE),"") | W38: =IFERROR(VLOOKUP(V38,年度数据总览!$B$34:$C$51,2,FALSE),"")
B39: =IF(AND(年度数据总览!B43<>0),年度数据总览!B43,"") | C39: =IFERROR(IF(年度数据总览!D43-SUMIF('1月'!$V$30:$V$250,'1月'!$B39,'1月'!$U$30:$U$250)+SUMIF('1月'!$L$30:$L$75,'1月'!$B39,'1月'!$K$30:$K$75)-SUMIF('1月'!$J$85:$J$99,'1月'!$B39,'1月'!$K$85:$K$99)+SUMIF('1月'!$L$85:$L$99,'1月'!$B39,'1月'!$N$85:$N$99)=0,0,年度数据总览!D43-SUMIF('1月'!$V$30:$V$250,'1月'!$B39,'1月'!$U$30:$U$250)+SUMIF('1月'!$L$30:$L$75,'1月'!$B39,'1月'!$K$30:$K$75)-SUMIF('1月'!$J$85:$J$99,'1月'!$B39,'1月'!$K$85:$K$99)+SUMIF('1月'!$L$85:$L$99,'1月'!$B39,'1月'!$N$85:$N$99)),0) -> 0 | M39: =IFERROR(VLOOKUP(L39,年度数据总览!$B$34:$C$51,2,FALSE),"") | W39: =IFERROR(VLOOKUP(V39,年度数据总览!$B$34:$C$51,2,FALSE),"")
B40: =IF(AND(年度数据总览!B44<>0),年度数据总览!B44,"") | C40: =IFERROR(IF(年度数据总览!D44-SUMIF('1月'!$V$30:$V$250,'1月'!$B40,'1月'!$U$30:$U$250)+SUMIF('1月'!$L$30:$L$75,'1月'!$B40,'1月'!$K$30:$K$75)-SUMIF('1月'!$J$85:$J$99,'1月'!$B40,'1月'!$K$85:$K$99)+SUMIF('1月'!$L$85:$L$99,'1月'!$B40,'1月'!$N$85:$N$99)=0,0,年度数据总览!D44-SUMIF('1月'!$V$30:$V$250,'1月'!$B40,'1月'!$U$30:$U$250)+SUMIF('1月'!$L$30:$L$75,'1月'!$B40,'1月'!$K$30:$K$75)-SUMIF('1月'!$J$85:$J$99,'1月'!$B40,'1月'!$K$85:$K$99)+SUMIF('1月'!$L$85:$L$99,'1月'!$B40,'1月'!$N$85:$N$99)),0) -> 0 | M40: =IFERROR(VLOOKUP(L40,年度数据总览!$B$34:$C$51,2,FALSE),"") | W40: =IFERROR(VLOOKUP(V40,年度数据总览!$B$34:$C$51,2,FALSE),"")
B41: =IF(AND(年度数据总览!B45<>0),年度数据总览!B45,"") | C41: =IFERROR(IF(年度数据总览!D45-SUMIF('1月'!$V$30:$V$250,'1月'!$B41,'1月'!$U$30:$U$250)+SUMIF('1月'!$L$30:$L$75,'1月'!$B41,'1月'!$K$30:$K$75)-SUMIF('1月'!$J$85:$J$99,'1月'!$B41,'1月'!$K$85:$K$99)+SUMIF('1月'!$L$85:$L$99,'1月'!$B41,'1月'!$N$85:$N$99)=0,0,年度数据总览!D45-SUMIF('1月'!$V$30:$V$250,'1月'!$B41,'1月'!$U$30:$U$250)+SUMIF('1月'!$L$30:$L$75,'1月'!$B41,'1月'!$K$30:$K$75)-SUMIF('1月'!$J$85:$J$99,'1月'!$B41,'1月'!$K$85:$K$99)+SUMIF('1月'!$L$85:$L$99,'1月'!$B41,'1月'!$N$85:$N$99)),0) -> 0 | M41: =IFERROR(VLOOKUP(L41,年度数据总览!$B$34:$C$51,2,FALSE),"") | W41: =IFERROR(VLOOKUP(V41,年度数据总览!$B$34:$C$51,2,FALSE),"")
B42: =IF(AND(年度数据总览!B46<>0),年度数据总览!B46,"") | C42: =IFERROR(IF(年度数据总览!D46-SUMIF('1月'!$V$30:$V$250,'1月'!$B42,'1月'!$U$30:$U$250)+SUMIF('1月'!$L$30:$L$75,'1月'!$B42,'1月'!$K$30:$K$75)-SUMIF('1月'!$J$85:$J$99,'1月'!$B42,'1月'!$K$85:$K$99)+SUMIF('1月'!$L$85:$L$99,'1月'!$B42,'1月'!$N$85:$N$99)=0,0,年度数据总览!D46-SUMIF('1月'!$V$30:$V$250,'1月'!$B42,'1月'!$U$30:$U$250)+SUMIF('1月'!$L$30:$L$75,'1月'!$B42,'1月'!$K$30:$K$75)-SUMIF('1月'!$J$85:$J$99,'1月'!$B42,'1月'!$K$85:$K$99)+SUMIF('1月'!$L$85:$L$99,'1月'!$B42,'1月'!$N$85:$N$99)),0) -> 0 | M42: =IFERROR(VLOOKUP(L42,年度数据总览!$B$34:$C$51,2,FALSE),"") | W42: =IFERROR(VLOOKUP(V42,年度数据总览!$B$34:$C$51,2,FALSE),"")
B43: =IF(AND(年度数据总览!B47<>0),年度数据总览!B47,"") | C43: =IFERROR(IF(年度数据总览!D47-SUMIF('1月'!$V$30:$V$250,'1月'!$B43,'1月'!$U$30:$U$250)+SUMIF('1月'!$L$30:$L$75,'1月'!$B43,'1月'!$K$30:$K$75)-SUMIF('1月'!$J$85:$J$99,'1月'!$B43,'1月'!$K$85:$K$99)+SUMIF('1月'!$L$85:$L$99,'1月'!$B43,'1月'!$N$85:$N$99)=0,0,年度数据总览!D47-SUMIF('1月'!$V$30:$V$250,'1月'!$B43,'1月'!$U$30:$U$250)+SUMIF('1月'!$L$30:$L$75,'1月'!$B43,'1月'!$K$30:$K$75)-SUMIF('1月'!$J$85:$J$99,'1月'!$B43,'1月'!$K$85:$K$99)+SUMIF('1月'!$L$85:$L$99,'1月'!$B43,'1月'!$N$85:$N$99)),0) -> 0 | M43: =IFERROR(VLOOKUP(L43,年度数据总览!$B$34:$C$51,2,FALSE),"") | W43: =IFERROR(VLOOKUP(V43,年度数据总览!$B$34:$C$51,2,FALSE),"")
B44: =IF(AND(年度数据总览!B48<>0),年度数据总览!B48,"") | C44: =IFERROR(IF(年度数据总览!D48-SUMIF('1月'!$V$30:$V$250,'1月'!$B44,'1月'!$U$30:$U$250)+SUMIF('1月'!$L$30:$L$75,'1月'!$B44,'1月'!$K$30:$K$75)-SUMIF('1月'!$J$85:$J$99,'1月'!$B44,'1月'!$K$85:$K$99)+SUMIF('1月'!$L$85:$L$99,'1月'!$B44,'1月'!$N$85:$N$99)=0,0,年度数据总览!D48-SUMIF('1月'!$V$30:$V$250,'1月'!$B44,'1月'!$U$30:$U$250)+SUMIF('1月'!$L$30:$L$75,'1月'!$B44,'1月'!$K$30:$K$75)-SUMIF('1月'!$J$85:$J$99,'1月'!$B44,'1月'!$K$85:$K$99)+SUMIF('1月'!$L$85:$L$99,'1月'!$B44,'1月'!$N$85:$N$99)),0) -> 0 | M44: =IFERROR(VLOOKUP(L44,年度数据总览!$B$34:$C$51,2,FALSE),"") | W44: =IFERROR(VLOOKUP(V44,年度数据总览!$B$34:$C$51,2,FALSE),"")
B45: =IF(AND(年度数据总览!B49<>0),年度数据总览!B49,"") | C45: =IFERROR(IF(年度数据总览!D49-SUMIF('1月'!$V$30:$V$250,'1月'!$B45,'1月'!$U$30:$U$250)+SUMIF('1月'!$L$30:$L$75,'1月'!$B45,'1月'!$K$30:$K$75)-SUMIF('1月'!$J$85:$J$99,'1月'!$B45,'1月'!$K$85:$K$99)+SUMIF('1月'!$L$85:$L$99,'1月'!$B45,'1月'!$N$85:$N$99)=0,0,年度数据总览!D49-SUMIF('1月'!$V$30:$V$250,'1月'!$B45,'1月'!$U$30:$U$250)+SUMIF('1月'!$L$30:$L$75,'1月'!$B45,'1月'!$K$30:$K$75)-SUMIF('1月'!$J$85:$J$99,'1月'!$B45,'1月'!$K$85:$K$99)+SUMIF('1月'!$L$85:$L$99,'1月'!$B45,'1月'!$N$85:$N$99)),0) -> 0 | M45: =IFERROR(VLOOKUP(L45,年度数据总览!$B$34:$C$51,2,FALSE),"") | W45: =IFERROR(VLOOKUP(V45,年度数据总览!$B$34:$C$51,2,FALSE),"")
B46: =IF(AND(年度数据总览!B50<>0),年度数据总览!B50,"") | C46: =IFERROR(IF(年度数据总览!D50-SUMIF('1月'!$V$30:$V$250,'1月'!$B46,'1月'!$U$30:$U$250)+SUMIF('1月'!$L$30:$L$75,'1月'!$B46,'1月'!$K$30:$K$75)-SUMIF('1月'!$J$85:$J$99,'1月'!$B46,'1月'!$K$85:$K$99)+SUMIF('1月'!$L$85:$L$99,'1月'!$B46,'1月'!$N$85:$N$99)=0,0,年度数据总览!D50-SUMIF('1月'!$V$30:$V$250,'1月'!$B46,'1月'!$U$30:$U$250)+SUMIF('1月'!$L$30:$L$75,'1月'!$B46,'1月'!$K$30:$K$75)-SUMIF('1月'!$J$85:$J$99,'1月'!$B46,'1月'!$K$85:$K$99)+SUMIF('1月'!$L$85:$L$99,'1月'!$B46,'1月'!$N$85:$N$99)),0) -> 0 | M46: =IFERROR(VLOOKUP(L46,年度数据总览!$B$34:$C$51,2,FALSE),"") | W46: =IFERROR(VLOOKUP(V46,年度数据总览!$B$34:$C$51,2,FALSE),"")
B47: =IF(AND(年度数据总览!B51<>0),年度数据总览!B51,"") | C47: =IFERROR(IF(年度数据总览!D51-SUMIF('1月'!$V$30:$V$250,'1月'!$B47,'1月'!$U$30:$U$250)+SUMIF('1月'!$L$30:$L$75,'1月'!$B47,'1月'!$K$30:$K$75)-SUMIF('1月'!$J$85:$J$99,'1月'!$B47,'1月'!$K$85:$K$99)+SUMIF('1月'!$L$85:$L$99,'1月'!$B47,'1月'!$N$85:$N$99)=0,0,年度数据总览!D51-SUMIF('1月'!$V$30:$V$250,'1月'!$B47,'1月'!$U$30:$U$250)+SUMIF('1月'!$L$30:$L$75,'1月'!$B47,'1月'!$K$30:$K$75)-SUMIF('1月'!$J$85:$J$99,'1月'!$B47,'1月'!$K$85:$K$99)+SUMIF('1月'!$L$85:$L$99,'1月'!$B47,'1月'!$N$85:$N$99)),0) -> 0 | M47: =IFERROR(VLOOKUP(L47,年度数据总览!$B$34:$C$51,2,FALSE),"") | W47: =IFERROR(VLOOKUP(V47,年度数据总览!$B$34:$C$51,2,FALSE),"")
... B73: =IF(AND(年度数据总览!B77<>0),年度数据总览!B77,"") | C73: =IFERROR(IF(年度数据总览!D77-SUMIF('1月'!$V$30:$V$250,'1月'!$B73,'1月'!$U$30:$U$250)+SUMIF('1月'!$L$30:$L$75,'1月'!$B73,'1月'!$K$30:$K$75)-SUMIF('1月'!$J$85:$J$99,'1月'!$B73,'1月'!$K$85:$K$99)+SUMIF('1月'!$L$85:$L$99,'1月'!$B73,'1月'!$N$85:$N$99)=0,0,年度数据总览!D77-SUMIF('1月'!$V$30:$V$250,'1月'!$B73,'1月'!$U$30:$U$250)+SUMIF('1月'!$L$30:$L$75,'1月'!$B73,'1月'!$K$30:$K$75)-SUMIF('1月'!$J$85:$J$99,'1月'!$B73,'1月'!$K$85:$K$99)+SUMIF('1月'!$L$85:$L$99,'1月'!$B73,'1月'!$N$85:$N$99)),0) -> 0 | M73: =IFERROR(VLOOKUP(L73,年度数据总览!$B$34:$C$51,2,FALSE),"") | W73: =IFERROR(VLOOKUP(V73,年度数据总览!$B$34:$C$51,2,FALSE),"")
B74: =IF(AND(年度数据总览!B78<>0),年度数据总览!B78,"") | C74: =IFERROR(IF(年度数据总览!D78-SUMIF('1月'!$V$30:$V$250,'1月'!$B74,'1月'!$U$30:$U$250)+SUMIF('1月'!$L$30:$L$75,'1月'!$B74,'1月'!$K$30:$K$75)-SUMIF('1月'!$J$85:$J$99,'1月'!$B74,'1月'!$K$85:$K$99)+SUMIF('1月'!$L$85:$L$99,'1月'!$B74,'1月'!$N$85:$N$99)=0,0,年度数据总览!D78-SUMIF('1月'!$V$30:$V$250,'1月'!$B74,'1月'!$U$30:$U$250)+SUMIF('1月'!$L$30:$L$75,'1月'!$B74,'1月'!$K$30:$K$75)-SUMIF('1月'!$J$85:$J$99,'1月'!$B74,'1月'!$K$85:$K$99)+SUMIF('1月'!$L$85:$L$99,'1月'!$B74,'1月'!$N$85:$N$99)),0) -> 0 | M74: =IFERROR(VLOOKUP(L74,年度数据总览!$B$34:$C$51,2,FALSE),"") | W74: =IFERROR(VLOOKUP(V74,年度数据总览!$B$34:$C$51,2,FALSE),"") | AA74: 如需空白处新增内容，请在此行之下进行新增编辑，以免与其它数据产生冲突
B75: 汇总 | C75: =SUBTOTAL(109,C30:C74) -> 16000 | M75: =IFERROR(VLOOKUP(L75,年度数据总览!$B$34:$C$51,2,FALSE),"") | W75: =IFERROR(VLOOKUP(V75,年度数据总览!$B$34:$C$51,2,FALSE),"")
W76: =IFERROR(VLOOKUP(V76,年度数据总览!$B$34:$C$51,2,FALSE),"")
W77: =IFERROR(VLOOKUP(V77,年度数据总览!$B$34:$C$51,2,FALSE),"")
W78: =IFERROR(VLOOKUP(V78,年度数据总览!$B$34:$C$51,2,FALSE),"")
W79: =IFERROR(VLOOKUP(V79,年度数据总览!$B$34:$C$51,2,FALSE),"")
W80: =IFERROR(VLOOKUP(V80,年度数据总览!$B$34:$C$51,2,FALSE),"")
G81: 账户内互转/还款记录 | J81: 账户内互转 | L81: 日常消费还款 | N81: 还贷/还债 | W81: =IFERROR(VLOOKUP(V81,年度数据总览!$B$34:$C$51,2,FALSE),"")
J82: =SUMIF(表8_7[项目大类],J81,表8_7[转出金额]) -> 1000 | L82: =SUMIF(表8_7[项目大类],L81,表8_7[转出金额]) -> 499 | N82: =SUMIF(表8_7[项目大类],N81,表8_7[转出金额]) -> 0 | W82: =IFERROR(VLOOKUP(V82,年度数据总览!$B$34:$C$51,2,FALSE),"")
...

Sheet 2月
B2: =$B$5&"月账单" -> 2月账单
B5: 2 | G5: 本月总收入 | I5: 本月总支出 | K5: 本月结余 | M5: 月末余额
G6: =I25 -> 0 | I6: =S25 -> 0 | K6: =G6-I6 -> 0 | M6: =SUM(K6,'1月'!M6) -> 16000
B7: ="今日是"&TEXT(TODAY(),"yyyy年m月d日") -> 今日是2026年10月25日
B8: 距离 | C8: =TEXT(TODAY(),"yyyy年") -> 2026年
B9: 结束还有 | C9: =DATEDIF(TODAY(),DATE((YEAR(TODAY())),12,31),"d") -> 67 | G9: 最大一笔收入细项 | H9: ="最大一笔"&G10&"金额" -> 最大一笔待填入金额 | J9: 对应日期 | K9: 最大一笔日常支出细项 | M9: ="最大一笔"&K10&"金额" -> 最大一笔待填入金额 | O9: 对应日期 | Q9: 最大支出使用人 | S9: =S6&"支出总额" -> 支出总额
G10: =IFERROR(INDEX(表6_102[收入细项],MATCH(MAX(表6_102[金额]),表6_102[金额],0)),"待填入") -> 待填入 | H10: =IFERROR(MAX(表6_102[金额]),0) -> 0 | J10: =IFERROR(INDEX(表6_102[日期],MATCH(MAX(表6_102[金额]),表6_102[金额],0)),"待填入") -> 待填入 | K10: =IFERROR(INDEX(表6_3[支出细项],MATCH(MAX(表6_3[金额]),表6_3[金额],0)),"待填入") -> 待填入 | M10: =IFERROR(MAX(表6_3[金额]),0) -> 0 | O10: =IFERROR(INDEX(表6_3[日期],MATCH(MAX(表6_3[金额]),表6_3[金额],0)),"待填入") -> 待填入 | Q10: =IFERROR(INDEX(AD30:AD73,MATCH(MAX(AE30:AE73),AE30:AE73,0)),"待填入") -> 待填入 | S10: =IFERROR(MAX(AE30:AE73),0) -> 0
G25: 本月总收入 | I25: =SUM(表6_102[金额]) -> 0 | Q25: 本月总支出 | S25: =SUM(U30:U250) -> 0
AA26: 如需空白处新增内容，请在此行之上进行新增编辑，以免与其它数据产生冲突
I27: 1 | S27: 1
G28: 手动填写 | H28: 下拉筛选 | I28: 下拉筛选 | J28: 手动填写 | K28: 手动填写 | L28: 下拉筛选 | M28: 自动生成 | N28: 手动填写 | O28: 手动填写 | Q28: 手动填写 | R28: 下拉筛选 | S28: 下拉筛选 | T28: 手动填写 | U28: 手动填写 | V28: 下拉筛选 | W28: 自动生成 | X28: 手动填写 | Y28: 手动填写 | AA28: 收入大类筛选 | AD28: 支出使用人 | AG28: 支出大类 | AJ28: 支出细项
B29: 对账账户 | C29: 本月实时金额 | G29: 日期 | H29: 收入大类 | I29: 收入细项 | J29: 具体项目 | K29: 金额 | L29: 收入账户 | M29: 账户大类 | N29: 归属方 | O29: 备注 | Q29: 日期 | R29: 支出大类 | S29: 支出细项 | T29: 具体项目 | U29: 金额 | V29: 支出账户 | W29: 账户大类 | X29: 支出使用人 | Y29: 备注 | AA29: 收入大类 | AB29: 求和项:金额 | AD29: 支出使用人 | AE29: 求和项:金额 | AG29: 支出大类 | AH29: 求和项:金额 | AJ29: 支出细项 | AK29: 求和项:金额
B30: =IF(AND(年度数据总览!B34<>0),年度数据总览!B34,"") -> 余额宝 | C30: =IFERROR(IF('1月'!C30-SUMIF('2月'!$V$30:$V$216,'2月'!$B30,'2月'!$U$30:$U$216)+SUMIF('2月'!$L$30:$L$75,'2月'!$B30,'2月'!$K$30:$K$75)-SUMIF('2月'!$J$85:$J$99,'2月'!$B30,'2月'!$K$85:$K$99)+SUMIF('2月'!$L$85:$L$99,'2月'!$B30,'2月'!$N$85:$N$99)=0,0,'1月'!C30-SUMIF('2月'!$V$30:$V$216,'2月'!$B30,'2月'!$U$30:$U$216)+SUMIF('2月'!$L$30:$L$75,'2月'!$B30,'2月'!$K$30:$K$75)-SUMIF('2月'!$J$85:$J$99,'2月'!$B30,'2月'!$K$85:$K$99)+SUMIF('2月'!$L$85:$L$99,'2月'!$B30,'2月'!$N$85:$N$99)),0) -> 701 | M30: =IFERROR(VLOOKUP(L30,年度数据总览!$B$34:$C$51,2,FALSE),"") | W30: =IFERROR(VLOOKUP(V30,年度数据总览!$B$34:$C$51,2,FALSE),"") | AA30: (空白) | AD30: (空白) | AG30: (空白) | AJ30: (空白)
B31: =IF(AND(年度数据总览!B35<>0),年度数据总览!B35,"") -> 微信 | C31: =IFERROR(IF('1月'!C31-SUMIF('2月'!$V$30:$V$216,'2月'!$B31,'2月'!$U$30:$U$216)+SUMIF('2月'!$L$30:$L$75,'2月'!$B31,'2月'!$K$30:$K$75)-SUMIF('2月'!$J$85:$J$99,'2月'!$B31,'2月'!$K$85:$K$99)+SUMIF('2月'!$L$85:$L$99,'2月'!$B31,'2月'!$N$85:$N$99)=0,0,'1月'!C31-SUMIF('2月'!$V$30:$V$216,'2月'!$B31,'2月'!$U$30:$U$216)+SUMIF('2月'!$L$30:$L$75,'2月'!$B31,'2月'!$K$30:$K$75)-SUMIF('2月'!$J$85:$J$99,'2月'!$B31,'2月'!$K$85:$K$99)+SUMIF('2月'!$L$85:$L$99,'2月'!$B31,'2月'!$N$85:$N$99)),0) -> 2300 | M31: =IFERROR(VLOOKUP(L31,年度数据总览!$B$34:$C$51,2,FALSE),"") | W31: =IFERROR(VLOOKUP(V31,年度数据总览!$B$34:$C$51,2,FALSE),"") | AA31: 总计 | AG31: 总计 | AJ31: 总计
B32: =IF(AND(年度数据总览!B36<>0),年度数据总览!B36,"") -> 现金 | C32: =IFERROR(IF('1月'!C32-SUMIF('2月'!$V$30:$V$216,'2月'!$B32,'2月'!$U$30:$U$216)+SUMIF('2月'!$L$30:$L$75,'2月'!$B32,'2月'!$K$30:$K$75)-SUMIF('2月'!$J$85:$J$99,'2月'!$B32,'2月'!$K$85:$K$99)+SUMIF('2月'!$L$85:$L$99,'2月'!$B32,'2月'!$N$85:$N$99)=0,0,'1月'!C32-SUMIF('2月'!$V$30:$V$216,'2月'!$B32,'2月'!$U$30:$U$216)+SUMIF('2月'!$L$30:$L$75,'2月'!$B32,'2月'!$K$30:$K$75)-SUMIF('2月'!$J$85:$J$99,'2月'!$B32,'2月'!$K$85:$K$99)+SUMIF('2月'!$L$85:$L$99,'2月'!$B32,'2月'!$N$85:$N$99)),0) -> 3000 | M32: =IFERROR(VLOOKUP(L32,年度数据总览!$B$34:$C$51,2,FALSE),"") | W32: =IFERROR(VLOOKUP(V32,年度数据总览!$B$34:$C$51,2,FALSE),"")
B33: =IF(AND(年度数据总览!B37<>0),年度数据总览!B37,"") -> XX未还债务 | C33: =IFERROR(IF('1月'!C33-SUMIF('2月'!$V$30:$V$216,'2月'!$B33,'2月'!$U$30:$U$216)+SUMIF('2月'!$L$30:$L$75,'2月'!$B33,'2月'!$K$30:$K$75)-SUMIF('2月'!$J$85:$J$99,'2月'!$B33,'2月'!$K$85:$K$99)+SUMIF('2月'!$L$85:$L$99,'2月'!$B33,'2月'!$N$85:$N$99)=0,0,'1月'!C33-SUMIF('2月'!$V$30:$V$216,'2月'!$B33,'2月'!$U$30:$U$216)+SUMIF('2月'!$L$30:$L$75,'2月'!$B33,'2月'!$K$30:$K$75)-SUMIF('2月'!$J$85:$J$99,'2月'!$B33,'2月'!$K$85:$K$99)+SUMIF('2月'!$L$85:$L$99,'2月'!$B33,'2月'!$N$85:$N$99)),0) -> 3000 | M33: =IFERROR(VLOOKUP(L33,年度数据总览!$B$34:$C$51,2,FALSE),"") | W33: =IFERROR(VLOOKUP(V33,年度数据总览!$B$34:$C$51,2,FALSE),"")
B34: =IF(AND(年度数据总览!B38<>0),年度数据总览!B38,"") -> 中国银行 | C34: =IFERROR(IF('1月'!C34-SUMIF('2月'!$V$30:$V$216,'2月'!$B34,'2月'!$U$30:$U$216)+SUMIF('2月'!$L$30:$L$75,'2月'!$B34,'2月'!$K$30:$K$75)-SUMIF('2月'!$J$85:$J$99,'2月'!$B34,'2月'!$K$85:$K$99)+SUMIF('2月'!$L$85:$L$99,'2月'!$B34,'2月'!$N$85:$N$99)=0,0,'1月'!C34-SUMIF('2月'!$V$30:$V$216,'2月'!$B34,'2月'!$U$30:$U$216)+SUMIF('2月'!$L$30:$L$75,'2月'!$B34,'2月'!$K$30:$K$75)-SUMIF('2月'!$J$85:$J$99,'2月'!$B34,'2月'!$K$85:$K$99)+SUMIF('2月'!$L$85:$L$99,'2月'!$B34,'2月'!$N$85:$N$99)),0) -> 7000 | M34: =IFERROR(VLOOKUP(L34,年度数据总览!$B$34:$C$51,2,FALSE),"") | W34: =IFERROR(VLOOKUP(V34,年度数据总览!$B$34:$C$51,2,FALSE),"")
B35: =IF(AND(年度数据总览!B39<>0),年度数据总览!B39,"") -> 花呗负债 | C35: =IFERROR(IF('1月'!C35-SUMIF('2月'!$V$30:$V$216,'2月'!$B35,'2月'!$U$30:$U$216)+SUMIF('2月'!$L$30:$L$75,'2月'!$B35,'2月'!$K$30:$K$75)-SUMIF('2月'!$J$85:$J$99,'2月'!$B35,'2月'!$K$85:$K$99)+SUMIF('2月'!$L$85:$L$99,'2月'!$B35,'2月'!$N$85:$N$99)=0,0,'1月'!C35-SUMIF('2月'!$V$30:$V$216,'2月'!$B35,'2月'!$U$30:$U$216)+SUMIF('2月'!$L$30:$L$75,'2月'!$B35,'2月'!$K$30:$K$75)-SUMIF('2月'!$J$85:$J$99,'2月'!$B35,'2月'!$K$85:$K$99)+SUMIF('2月'!$L$85:$L$99,'2月'!$B35,'2月'!$N$85:$N$99)),0) -> -1 | M35: =IFERROR(VLOOKUP(L35,年度数据总览!$B$34:$C$51,2,FALSE),"") | W35: =IFERROR(VLOOKUP(V35,年度数据总览!$B$34:$C$51,2,FALSE),"")
B36: =IF(AND(年度数据总览!B40<>0),年度数据总览!B40,"") | C36: =IFERROR(IF('1月'!C36-SUMIF('2月'!$V$30:$V$216,'2月'!$B36,'2月'!$U$30:$U$216)+SUMIF('2月'!$L$30:$L$75,'2月'!$B36,'2月'!$K$30:$K$75)-SUMIF('2月'!$J$85:$J$99,'2月'!$B36,'2月'!$K$85:$K$99)+SUMIF('2月'!$L$85:$L$99,'2月'!$B36,'2月'!$N$85:$N$99)=0,0,'1月'!C36-SUMIF('2月'!$V$30:$V$216,'2月'!$B36,'2月'!$U$30:$U$216)+SUMIF('2月'!$L$30:$L$75,'2月'!$B36,'2月'!$K$30:$K$75)-SUMIF('2月'!$J$85:$J$99,'2月'!$B36,'2月'!$K$85:$K$99)+SUMIF('2月'!$L$85:$L$99,'2月'!$B36,'2月'!$N$85:$N$99)),0) -> 0 | M36: =IFERROR(VLOOKUP(L36,年度数据总览!$B$34:$C$51,2,FALSE),"") | W36: =IFERROR(VLOOKUP(V36,年度数据总览!$B$34:$C$51,2,FALSE),"")
B37: =IF(AND(年度数据总览!B41<>0),年度数据总览!B41,"") | C37: =IFERROR(IF('1月'!C37-SUMIF('2月'!$V$30:$V$216,'2月'!$B37,'2月'!$U$30:$U$216)+SUMIF('2月'!$L$30:$L$75,'2月'!$B37,'2月'!$K$30:$K$75)-SUMIF('2月'!$J$85:$J$99,'2月'!$B37,'2月'!$K$85:$K$99)+SUMIF('2月'!$L$85:$L$99,'2月'!$B37,'2月'!$N$85:$N$99)=0,0,'1月'!C37-SUMIF('2月'!$V$30:$V$216,'2月'!$B37,'2月'!$U$30:$U$216)+SUMIF('2月'!$L$30:$L$75,'2月'!$B37,'2月'!$K$30:$K$75)-SUMIF('2月'!$J$85:$J$99,'2月'!$B37,'2月'!$K$85:$K$99)+SUMIF('2月'!$L$85:$L$99,'2月'!$B37,'2月'!$N$85:$N$99)),0) -> 0 | M37: =IFERROR(VLOOKUP(L37,年度数据总览!$B$34:$C$51,2,FALSE),"") | W37: =IFERROR(VLOOKUP(V37,年度数据总览!$B$34:$C$51,2,FALSE),"")
B38: =IF(AND(年度数据总览!B42<>0),年度数据总览!B42,"") | C38: =IFERROR(IF('1月'!C38-SUMIF('2月'!$V$30:$V$216,'2月'!$B38,'2月'!$U$30:$U$216)+SUMIF('2月'!$L$30:$L$75,'2月'!$B38,'2月'!$K$30:$K$75)-SUMIF('2月'!$J$85:$J$99,'2月'!$B38,'2月'!$K$85:$K$99)+SUMIF('2月'!$L$85:$L$99,'2月'!$B38,'2月'!$N$85:$N$99)=0,0,'1月'!C38-SUMIF('2月'!$V$30:$V$216,'2月'!$B38,'2月'!$U$30:$U$216)+SUMIF('2月'!$L$30:$L$75,'2月'!$B38,'2月'!$K$30:$K$75)-SUMIF('2月'!$J$85:$J$99,'2月'!$B38,'2月'!$K$85:$K$99)+SUMIF('2月'!$L$85:$L$99,'2月'!$B38,'2月'!$N$85:$N$99)),0) -> 0 | M38: =IFERROR(VLOOKUP(L38,年度数据总览!$B$34:$C$51,2,FALSE),"") | W38: =IFERROR(VLOOKUP(V38,年度数据总览!$B$34:$C$51,2,FALSE),"")
B39: =IF(AND(年度数据总览!B43<>0),年度数据总览!B43,"") | C39: =IFERROR(IF('1月'!C39-SUMIF('2月'!$V$30:$V$216,'2月'!$B39,'2月'!$U$30:$U$216)+SUMIF('2月'!$L$30:$L$75,'2月'!$B39,'2月'!$K$30:$K$75)-SUMIF('2月'!$J$85:$J$99,'2月'!$B39,'2月'!$K$85:$K$99)+SUMIF('2月'!$L$85:$L$99,'2月'!$B39,'2月'!$N$85:$N$99)=0,0,'1月'!C39-SUMIF('2月'!$V$30:$V$216,'2月'!$B39,'2月'!$U$30:$U$216)+SUMIF('2月'!$L$30:$L$75,'2月'!$B39,'2月'!$K$30:$K$75)-SUMIF('2月'!$J$85:$J$99,'2月'!$B39,'2月'!$K$85:$K$99)+SUMIF('2月'!$L$85:$L$99,'2月'!$B39,'2月'!$N$85:$N$99)),0) -> 0 | M39: =IFERROR(VLOOKUP(L39,年度数据总览!$B$34:$C$51,2,FALSE),"") | W39: =IFERROR(VLOOKUP(V39,年度数据总览!$B$34:$C$51,2,FALSE),"")
B40: =IF(AND(年度数据总览!B44<>0),年度数据总览!B44,"") | C40: =IFERROR(IF('1月'!C40-SUMIF('2月'!$V$30:$V$216,'2月'!$B40,'2月'!$U$30:$U$216)+SUMIF('2月'!$L$30:$L$75,'2月'!$B40,'2月'!$K$30:$K$75)-SUMIF('2月'!$J$85:$J$99,'2月'!$B40,'2月'!$K$85:$K$99)+SUMIF('2月'!$L$85:$L$99,'2月'!$B40,'2月'!$N$85:$N$99)=0,0,'1月'!C40-SUMIF('2月'!$V$30:$V$216,'2月'!$B40,'2月'!$U$30:$U$216)+SUMIF('2月'!$L$30:$L$75,'2月'!$B40,'2月'!$K$30:$K$75)-SUMIF('2月'!$J$85:$J$99,'2月'!$B40,'2月'!$K$85:$K$99)+SUMIF('2月'!$L$85:$L$99,'2月'!$B40,'2月'!$N$85:$N$99)),0) -> 0 | M40: =IFERROR(VLOOKUP(L40,年度数据总览!$B$34:$C$51,2,FALSE),"") | W40: =IFERROR(VLOOKUP(V40,年度数据总览!$B$34:$C$51,2,FALSE),"")
B41: =IF(AND(年度数据总览!B45<>0),年度数据总览!B45,"") | C41: =IFERROR(IF('1月'!C41-SUMIF('2月'!$V$30:$V$216,'2月'!$B41,'2月'!$U$30:$U$216)+SUMIF('2月'!$L$30:$L$75,'2月'!$B41,'2月'!$K$30:$K$75)-SUMIF('2月'!$J$85:$J$99,'2月'!$B41,'2月'!$K$85:$K$99)+SUMIF('2月'!$L$85:$L$99,'2月'!$B41,'2月'!$N$85:$N$99)=0,0,'1月'!C41-SUMIF('2月'!$V$30:$V$216,'2月'!$B41,'2月'!$U$30:$U$216)+SUMIF('2月'!$L$30:$L$75,'2月'!$B41,'2月'!$K$30:$K$75)-SUMIF('2月'!$J$85:$J$99,'2月'!$B41,'2月'!$K$85:$K$99)+SUMIF('2月'!$L$85:$L$99,'2月'!$B41,'2月'!$N$85:$N$99)),0) -> 0 | M41: =IFERROR(VLOOKUP(L41,年度数据总览!$B$34:$C$51,2,FALSE),"") | W41: =IFERROR(VLOOKUP(V41,年度数据总览!$B$34:$C$51,2,FALSE),"")
B42: =IF(AND(年度数据总览!B46<>0),年度数据总览!B46,"") | C42: =IFERROR(IF('1月'!C42-SUMIF('2月'!$V$30:$V$216,'2月'!$B42,'2月'!$U$30:$U$216)+SUMIF('2月'!$L$30:$L$75,'2月'!$B42,'2月'!$K$30:$K$75)-SUMIF('2月'!$J$85:$J$99,'2月'!$B42,'2月'!$K$85:$K$99)+SUMIF('2月'!$L$85:$L$99,'2月'!$B42,'2月'!$N$85:$N$99)=0,0,'1月'!C42-SUMIF('2月'!$V$30:$V$216,'2月'!$B42,'2月'!$U$30:$U$216)+SUMIF('2月'!$L$30:$L$75,'2月'!$B42,'2月'!$K$30:$K$75)-SUMIF('2月'!$J$85:$J$99,'2月'!$B42,'2月'!$K$85:$K$99)+SUMIF('2月'!$L$85:$L$99,'2月'!$B42,'2月'!$N$85:$N$99)),0) -> 0 | M42: =IFERROR(VLOOKUP(L42,年度数据总览!$B$34:$C$51,2,FALSE),"") | W42: =IFERROR(VLOOKUP(V42,年度数据总览!$B$34:$C$51,2,FALSE),"")
B43: =IF(AND(年度数据总览!B47<>0),年度数据总览!B47,"") | C43: =IFERROR(IF('1月'!C43-SUMIF('2月'!$V$30:$V$216,'2月'!$B43,'2月'!$U$30:$U$216)+SUMIF('2月'!$L$30:$L$75,'2月'!$B43,'2月'!$K$30:$K$75)-SUMIF('2月'!$J$85:$J$99,'2月'!$B43,'2月'!$K$85:$K$99)+SUMIF('2月'!$L$85:$L$99,'2月'!$B43,'2月'!$N$85:$N$99)=0,0,'1月'!C43-SUMIF('2月'!$V$30:$V$216,'2月'!$B43,'2月'!$U$30:$U$216)+SUMIF('2月'!$L$30:$L$75,'2月'!$B43,'2月'!$K$30:$K$75)-SUMIF('2月'!$J$85:$J$99,'2月'!$B43,'2月'!$K$85:$K$99)+SUMIF('2月'!$L$85:$L$99,'2月'!$B43,'2月'!$N$85:$N$99)),0) -> 0 | M43: =IFERROR(VLOOKUP(L43,年度数据总览!$B$34:$C$51,2,FALSE),"") | W43: =IFERROR(VLOOKUP(V43,年度数据总览!$B$34:$C$51,2,FALSE),"")
... B45: =IF(AND(年度数据总览!B49<>0),年度数据总览!B49,"") | C45: =IFERROR(IF('1月'!C45-SUMIF('2月'!$V$30:$V$216,'2月'!$B45,'2月'!$U$30:$U$216)+SUMIF('2月'!$L$30:$L$75,'2月'!$B45,'2月'!$K$30:$K$75)-SUMIF('2月'!$J$85:$J$99,'2月'!$B45,'2月'!$K$85:$K$99)+SUMIF('2月'!$L$85:$L$99,'2月'!$B45,'2月'!$N$85:$N$99)=0,0,'1月'!C45-SUMIF('2月'!$V$30:$V$216,'2月'!$B45,'2月'!$U$30:$U$216)+SUMIF('2月'!$L$30:$L$75,'2月'!$B45,'2月'!$K$30:$K$75)-SUMIF('2月'!$J$85:$J$99,'2月'!$B45,'2月'!$K$85:$K$99)+SUMIF('2月'!$L$85:$L$99,'2月'!$B45,'2月'!$N$85:$N$99)),0) -> 0 | M45: =IFERROR(VLOOKUP(L45,年度数据总览!$B$34:$C$51,2,FALSE),"") | W45: =IFERROR(VLOOKUP(V45,年度数据总览!$B$34:$C$51,2,FALSE),"")
B46: =IF(AND(年度数据总览!B50<>0),年度数据总览!B50,"") | C46: =IFERROR(IF('1月'!C46-SUMIF('2月'!$V$30:$V$216,'2月'!$B46,'2月'!$U$30:$U$216)+SUMIF('2月'!$L$30:$L$75,'2月'!$B46,'2月'!$K$30:$K$75)-SUMIF('2月'!$J$85:$J$99,'2月'!$B46,'2月'!$K$85:$K$99)+SUMIF('2月'!$L$85:$L$99,'2月'!$B46,'2月'!$N$85:$N$99)=0,0,'1月'!C46-SUMIF('2月'!$V$30:$V$216,'2月'!$B46,'2月'!$U$30:$U$216)+SUMIF('2月'!$L$30:$L$75,'2月'!$B46,'2月'!$K$30:$K$75)-SUMIF('2月'!$J$85:$J$99,'2月'!$B46,'2月'!$K$85:$K$99)+SUMIF('2月'!$L$85:$L$99,'2月'!$B46,'2月'!$N$85:$N$99)),0) -> 0 | W46: =IFERROR(VLOOKUP(V46,年度数据总览!$B$34:$C$51,2,FALSE),"")
B47: =IF(AND(年度数据总览!B51<>0),年度数据总览!B51,"") | C47: =IFERROR(IF('1月'!C47-SUMIF('2月'!$V$30:$V$216,'2月'!$B47,'2月'!$U$30:$U$216)+SUMIF('2月'!$L$30:$L$75,'2月'!$B47,'2月'!$K$30:$K$75)-SUMIF('2月'!$J$85:$J$99,'2月'!$B47,'2月'!$K$85:$K$99)+SUMIF('2月'!$L$85:$L$99,'2月'!$B47,'2月'!$N$85:$N$99)=0,0,'1月'!C47-SUMIF('2月'!$V$30:$V$216,'2月'!$B47,'2月'!$U$30:$U$216)+SUMIF('2月'!$L$30:$L$75,'2月'!$B47,'2月'!$K$30:$K$75)-SUMIF('2月'!$J$85:$J$99,'2月'!$B47,'2月'!$K$85:$K$99)+SUMIF('2月'!$L$85:$L$99,'2月'!$B47,'2月'!$N$85:$N$99)),0) -> 0 | M47: =IFERROR(VLOOKUP(L47,年度数据总览!$B$34:$C$51,2,FALSE),"") | W47: =IFERROR(VLOOKUP(V47,年度数据总览!$B$34:$C$51,2,FALSE),"")
B48: =IF(AND(年度数据总览!B52<>0),年度数据总览!B52,"") | C48: =IFERROR(IF('1月'!C48-SUMIF('2月'!$V$30:$V$216,'2月'!$B48,'2月'!$U$30:$U$216)+SUMIF('2月'!$L$30:$L$75,'2月'!$B48,'2月'!$K$30:$K$75)-SUMIF('2月'!$J$85:$J$99,'2月'!$B48,'2月'!$K$85:$K$99)+SUMIF('2月'!$L$85:$L$99,'2月'!$B48,'2月'!$N$85:$N$99)=0,0,'1月'!C48-SUMIF('2月'!$V$30:$V$216,'2月'!$B48,'2月'!$U$30:$U$216)+SUMIF('2月'!$L$30:$L$75,'2月'!$B48,'2月'!$K$30:$K$75)-SUMIF('2月'!$J$85:$J$99,'2月'!$B48,'2月'!$K$85:$K$99)+SUMIF('2月'!$L$85:$L$99,'2月'!$B48,'2月'!$N$85:$N$99)),0) -> 0 | M48: =IFERROR(VLOOKUP(L48,年度数据总览!$B$34:$C$51,2,FALSE),"") | W48: =IFERROR(VLOOKUP(V48,年度数据总览!$B$34:$C$51,2,FALSE),"")
B49: =IF(AND(年度数据总览!B53<>0),年度数据总览!B53,"") | C49: =IFERROR(IF('1月'!C49-SUMIF('2月'!$V$30:$V$216,'2月'!$B49,'2月'!$U$30:$U$216)+SUMIF('2月'!$L$30:$L$75,'2月'!$B49,'2月'!$K$30:$K$75)-SUMIF('2月'!$J$85:$J$99,'2月'!$B49,'2月'!$K$85:$K$99)+SUMIF('2月'!$L$85:$L$99,'2月'!$B49,'2月'!$N$85:$N$99)=0,0,'1月'!C49-SUMIF('2月'!$V$30:$V$216,'2月'!$B49,'2月'!$U$30:$U$216)+SUMIF('2月'!$L$30:$L$75,'2月'!$B49,'2月'!$K$30:$K$75)-SUMIF('2月'!$J$85:$J$99,'2月'!$B49,'2月'!$K$85:$K$99)+SUMIF('2月'!$L$85:$L$99,'2月'!$B49,'2月'!$N$85:$N$99)),0) -> 0 | M49: =IFERROR(VLOOKUP(L49,年度数据总览!$B$34:$C$51,2,FALSE),"") | W49: =IFERROR(VLOOKUP(V49,年度数据总览!$B$34:$C$51,2,FALSE),"")
B50: =IF(AND(年度数据总览!B54<>0),年度数据总览!B54,"") | C50: =IFERROR(IF('1月'!C50-SUMIF('2月'!$V$30:$V$216,'2月'!$B50,'2月'!$U$30:$U$216)+SUMIF('2月'!$L$30:$L$75,'2月'!$B50,'2月'!$K$30:$K$75)-SUMIF('2月'!$J$85:$J$99,'2月'!$B50,'2月'!$K$85:$K$99)+SUMIF('2月'!$L$85:$L$99,'2月'!$B50,'2月'!$N$85:$N$99)=0,0,'1月'!C50-SUMIF('2月'!$V$30:$V$216,'2月'!$B50,'2月'!$U$30:$U$216)+SUMIF('2月'!$L$30:$L$75,'2月'!$B50,'2月'!$K$30:$K$75)-SUMIF('2月'!$J$85:$J$99,'2月'!$B50,'2月'!$K$85:$K$99)+SUMIF('2月'!$L$85:$L$99,'2月'!$B50,'2月'!$N$85:$N$99)),0) -> 0 | M50: =IFERROR(VLOOKUP(L50,年度数据总览!$B$34:$C$51,2,FALSE),"") | W50: =IFERROR(VLOOKUP(V50,年度数据总览!$B$34:$C$51,2,FALSE),"")
B51: =IF(AND(年度数据总览!B55<>0),年度数据总览!B55,"") | C51: =IFERROR(IF('1月'!C51-SUMIF('2月'!$V$30:$V$216,'2月'!$B51,'2月'!$U$30:$U$216)+SUMIF('2月'!$L$30:$L$75,'2月'!$B51,'2月'!$K$30:$K$75)-SUMIF('2月'!$J$85:$J$99,'2月'!$B51,'2月'!$K$85:$K$99)+SUMIF('2月'!$L$85:$L$99,'2月'!$B51,'2月'!$N$85:$N$99)=0,0,'1月'!C51-SUMIF('2月'!$V$30:$V$216,'2月'!$B51,'2月'!$U$30:$U$216)+SUMIF('2月'!$L$30:$L$75,'2月'!$B51,'2月'!$K$30:$K$75)-SUMIF('2月'!$J$85:$J$99,'2月'!$B51,'2月'!$K$85:$K$99)+SUMIF('2月'!$L$85:$L$99,'2月'!$B51,'2月'!$N$85:$N$99)),0) -> 0 | M51: =IFERROR(VLOOKUP(L51,年度数据总览!$B$34:$C$51,2,FALSE),"") | W51: =IFERROR(VLOOKUP(V51,年度数据总览!$B$34:$C$51,2,FALSE),"")
B52: =IF(AND(年度数据总览!B56<>0),年度数据总览!B56,"") | C52: =IFERROR(IF('1月'!C52-SUMIF('2月'!$V$30:$V$216,'2月'!$B52,'2月'!$U$30:$U$216)+SUMIF('2月'!$L$30:$L$75,'2月'!$B52,'2月'!$K$30:$K$75)-SUMIF('2月'!$J$85:$J$99,'2月'!$B52,'2月'!$K$85:$K$99)+SUMIF('2月'!$L$85:$L$99,'2月'!$B52,'2月'!$N$85:$N$99)=0,0,'1月'!C52-SUMIF('2月'!$V$30:$V$216,'2月'!$B52,'2月'!$U$30:$U$216)+SUMIF('2月'!$L$30:$L$75,'2月'!$B52,'2月'!$K$30:$K$75)-SUMIF('2月'!$J$85:$J$99,'2月'!$B52,'2月'!$K$85:$K$99)+SUMIF('2月'!$L$85:$L$99,'2月'!$B52,'2月'!$N$85:$N$99)),0) -> 0 | M52: =IFERROR(VLOOKUP(L52,年度数据总览!$B$34:$C$51,2,FALSE),"") | W52: =IFERROR(VLOOKUP(V52,年度数据总览!$B$34:$C$51,2,FALSE),"")
B53: =IF(AND(年度数据总览!B57<>0),年度数据总览!B57,"") | C53: =IFERROR(IF('1月'!C53-SUMIF('2月'!$V$30:$V$216,'2月'!$B53,'2月'!$U$30:$U$216)+SUMIF('2月'!$L$30:$L$75,'2月'!$B53,'2月'!$K$30:$K$75)-SUMIF('2月'!$J$85:$J$99,'2月'!$B53,'2月'!$K$85:$K$99)+SUMIF('2月'!$L$85:$L$99,'2月'!$B53,'2月'!$N$85:$N$99)=0,0,'1月'!C53-SUMIF('2月'!$V$30:$V$216,'2月'!$B53,'2月'!$U$30:$U$216)+SUMIF('2月'!$L$30:$L$75,'2月'!$B53,'2月'!$K$30:$K$75)-SUMIF('2月'!$J$85:$J$99,'2月'!$B53,'2月'!$K$85:$K$99)+SUMIF('2月'!$L$85:$L$99,'2月'!$B53,'2月'!$N$85:$N$99)),0) -> 0 | M53: =IFERROR(VLOOKUP(L53,年度数据总览!$B$34:$C$51,2,FALSE),"") | W53: =IFERROR(VLOOKUP(V53,年度数据总览!$B$34:$C$51,2,FALSE),"")
B54: =IF(AND(年度数据总览!B58<>0),年度数据总览!B58,"") | C54: =IFERROR(IF('1月'!C54-SUMIF('2月'!$V$30:$V$216,'2月'!$B54,'2月'!$U$30:$U$216)+SUMIF('2月'!$L$30:$L$75,'2月'!$B54,'2月'!$K$30:$K$75)-SUMIF('2月'!$J$85:$J$99,'2月'!$B54,'2月'!$K$85:$K$99)+SUMIF('2月'!$L$85:$L$99,'2月'!$B54,'2月'!$N$85:$N$99)=0,0,'1月'!C54-SUMIF('2月'!$V$30:$V$216,'2月'!$B54,'2月'!$U$30:$U$216)+SUMIF('2月'!$L$30:$L$75,'2月'!$B54,'2月'!$K$30:$K$75)-SUMIF('2月'!$J$85:$J$99,'2月'!$B54,'2月'!$K$85:$K$99)+SUMIF('2月'!$L$85:$L$99,'2月'!$B54,'2月'!$N$85:$N$99)),0) -> 0 | M54: =IFERROR(VLOOKUP(L54,年度数据总览!$B$34:$C$51,2,FALSE),"") | W54: =IFERROR(VLOOKUP(V54,年度数据总览!$B$34:$C$51,2,FALSE),"")
B55: =IF(AND(年度数据总览!B59<>0),年度数据总览!B59,"") | C55: =IFERROR(IF('1月'!C55-SUMIF('2月'!$V$30:$V$216,'2月'!$B55,'2月'!$U$30:$U$216)+SUMIF('2月'!$L$30:$L$75,'2月'!$B55,'2月'!$K$30:$K$75)-SUMIF('2月'!$J$85:$J$99,'2月'!$B55,'2月'!$K$85:$K$99)+SUMIF('2月'!$L$85:$L$99,'2月'!$B55,'2月'!$N$85:$N$99)=0,0,'1月'!C55-SUMIF('2月'!$V$30:$V$216,'2月'!$B55,'2月'!$U$30:$U$216)+SUMIF('2月'!$L$30:$L$75,'2月'!$B55,'2月'!$K$30:$K$75)-SUMIF('2月'!$J$85:$J$99,'2月'!$B55,'2月'!$K$85:$K$99)+SUMIF('2月'!$L$85:$L$99,'2月'!$B55,'2月'!$N$85:$N$99)),0) -> 0 | M55: =IFERROR(VLOOKUP(L55,年度数据总览!$B$34:$C$51,2,FALSE),"") | W55: =IFERROR(VLOOKUP(V55,年度数据总览!$B$34:$C$51,2,FALSE),"")
B56: =IF(AND(年度数据总览!B60<>0),年度数据总览!B60,"") | C56: =IFERROR(IF('1月'!C56-SUMIF('2月'!$V$30:$V$216,'2月'!$B56,'2月'!$U$30:$U$216)+SUMIF('2月'!$L$30:$L$75,'2月'!$B56,'2月'!$K$30:$K$75)-SUMIF('2月'!$J$85:$J$99,'2月'!$B56,'2月'!$K$85:$K$99)+SUMIF('2月'!$L$85:$L$99,'2月'!$B56,'2月'!$N$85:$N$99)=0,0,'1月'!C56-SUMIF('2月'!$V$30:$V$216,'2月'!$B56,'2月'!$U$30:$U$216)+SUMIF('2月'!$L$30:$L$75,'2月'!$B56,'2月'!$K$30:$K$75)-SUMIF('2月'!$J$85:$J$99,'2月'!$B56,'2月'!$K$85:$K$99)+SUMIF('2月'!$L$85:$L$99,'2月'!$B56,'2月'!$N$85:$N$99)),0) -> 0 | M56: =IFERROR(VLOOKUP(L56,年度数据总览!$B$34:$C$51,2,FALSE),"") | W56: =IFERROR(VLOOKUP(V56,年度数据总览!$B$34:$C$51,2,FALSE),"")
B57: =IF(AND(年度数据总览!B61<>0),年度数据总览!B61,"") | C57: =IFERROR(IF('1月'!C57-SUMIF('2月'!$V$30:$V$216,'2月'!$B57,'2月'!$U$30:$U$216)+SUMIF('2月'!$L$30:$L$75,'2月'!$B57,'2月'!$K$30:$K$75)-SUMIF('2月'!$J$85:$J$99,'2月'!$B57,'2月'!$K$85:$K$99)+SUMIF('2月'!$L$85:$L$99,'2月'!$B57,'2月'!$N$85:$N$99)=0,0,'1月'!C57-SUMIF('2月'!$V$30:$V$216,'2月'!$B57,'2月'!$U$30:$U$216)+SUMIF('2月'!$L$30:$L$75,'2月'!$B57,'2月'!$K$30:$K$75)-SUMIF('2月'!$J$85:$J$99,'2月'!$B57,'2月'!$K$85:$K$99)+SUMIF('2月'!$L$85:$L$99,'2月'!$B57,'2月'!$N$85:$N$99)),0) -> 0 | M57: =IFERROR(VLOOKUP(L57,年度数据总览!$B$34:$C$51,2,FALSE),"") | W57: =IFERROR(VLOOKUP(V57,年度数据总览!$B$34:$C$51,2,FALSE),"")
B58: =IF(AND(年度数据总览!B62<>0),年度数据总览!B62,"") | C58: =IFERROR(IF('1月'!C58-SUMIF('2月'!$V$30:$V$216,'2月'!$B58,'2月'!$U$30:$U$216)+SUMIF('2月'!$L$30:$L$75,'2月'!$B58,'2月'!$K$30:$K$75)-SUMIF('2月'!$J$85:$J$99,'2月'!$B58,'2月'!$K$85:$K$99)+SUMIF('2月'!$L$85:$L$99,'2月'!$B58,'2月'!$N$85:$N$99)=0,0,'1月'!C58-SUMIF('2月'!$V$30:$V$216,'2月'!$B58,'2月'!$U$30:$U$216)+SUMIF('2月'!$L$30:$L$75,'2月'!$B58,'2月'!$K$30:$K$75)-SUMIF('2月'!$J$85:$J$99,'2月'!$B58,'2月'!$K$85:$K$99)+SUMIF('2月'!$L$85:$L$99,'2月'!$B58,'2月'!$N$85:$N$99)),0) -> 0 | M58: =IFERROR(VLOOKUP(L58,年度数据总览!$B$34:$C$51,2,FALSE),"") | W58: =IFERROR(VLOOKUP(V58,年度数据总览!$B$34:$C$51,2,FALSE),"")
...

Sheet 3月
B2: =$B$5&"月账单" -> 3月账单
B5: 3 | G5: 本月总收入 | I5: 本月总支出 | K5: 本月结余 | M5: 月末余额
G6: =I25 -> 0 | I6: =S25 -> 0 | K6: =G6-I6 -> 0 | M6: =SUM(K6,'2月'!M6) -> 16000
B7: ="今日是"&TEXT(TODAY(),"yyyy年m月d日") -> 今日是2026年10月25日
B8: 距离 | C8: =TEXT(TODAY(),"yyyy年") -> 2026年
B9: 结束还有 | C9: =DATEDIF(TODAY(),DATE((YEAR(TODAY())),12,31),"d") -> 67 | G9: 最大一笔收入细项 | H9: ="最大一笔"&G10&"金额" -> 最大一笔待填入金额 | J9: 对应日期 | K9: 最大一笔日常支出细项 | M9: ="最大一笔"&K10&"金额" -> 最大一笔待填入金额 | O9: 对应日期 | Q9: 最大支出使用人 | S9: =S6&"支出总额" -> 支出总额
G10: =IFERROR(INDEX(表6_10232[收入细项],MATCH(MAX(表6_10232[金额]),表6_10232[金额],0)),"待填入") -> 待填入 | H10: =IFERROR(MAX(表6_10232[金额]),0) -> 0 | J10: =IFERROR(INDEX(表6_10232[日期],MATCH(MAX(表6_10232[金额]),表6_10232[金额],0)),"待填入") -> 待填入 | K10: =IFERROR(INDEX(表6_331[支出细项],MATCH(MAX(表6_331[金额]),表6_331[金额],0)),"待填入") -> 待填入 | M10: =IFERROR(MAX(表6_331[金额]),0) -> 0 | O10: =IFERROR(INDEX(表6_331[日期],MATCH(MAX(表6_331[金额]),表6_331[金额],0)),"待填入") -> 待填入 | Q10: =IFERROR(INDEX(AD30:AD73,MATCH(MAX(AE30:AE73),AE30:AE73,0)),"待填入") -> 待填入 | S10: =IFERROR(MAX(AE30:AE73),0) -> 0
G25: 本月总收入 | I25: =SUM(表6_10232[金额]) -> 0 | Q25: 本月总支出 | S25: =SUM(U30:U251) -> 0
AA26: 如需空白处新增内容，请在此行之上进行新增编辑，以免与其它数据产生冲突
I27: 1 | S27: 1
G28: 手动填写 | H28: 下拉筛选 | I28: 下拉筛选 | J28: 手动填写 | K28: 手动填写 | L28: 下拉筛选 | M28: 自动生成 | N28: 手动填写 | O28: 手动填写 | Q28: 手动填写 | R28: 下拉筛选 | S28: 下拉筛选 | T28: 手动填写 | U28: 手动填写 | V28: 下拉筛选 | W28: 自动生成 | X28: 手动填写 | Y28: 手动填写 | AA28: 收入大类筛选 | AD28: 支出使用人 | AG28: 支出大类 | AJ28: 支出细项
B29: 对账账户 | C29: 本月实时金额 | G29: 日期 | H29: 收入大类 | I29: 收入细项 | J29: 具体项目 | K29: 金额 | L29: 收入账户 | M29: 账户大类 | N29: 归属方 | O29: 备注 | Q29: 日期 | R29: 支出大类 | S29: 支出细项 | T29: 具体项目 | U29: 金额 | V29: 支出账户 | W29: 账户大类 | X29: 支出使用人 | Y29: 备注 | AA29: 收入大类 | AB29: 求和项:金额 | AD29: 支出使用人 | AE29: 求和项:金额 | AG29: 支出大类 | AH29: 求和项:金额 | AJ29: 支出细项 | AK29: 求和项:金额
B30: =IF(AND(年度数据总览!B34<>0),年度数据总览!B34,"") -> 余额宝 | C30: =IFERROR(IF('2月'!C30-SUMIF('3月'!$V$30:$V$216,'3月'!$B30,'3月'!$U$30:$U$216)+SUMIF('3月'!$L$30:$L$75,'3月'!$B30,'3月'!$K$30:$K$75)-SUMIF('3月'!$J$85:$J$99,'3月'!$B30,'3月'!$K$85:$K$99)+SUMIF('3月'!$L$85:$L$99,'3月'!$B30,'3月'!$N$85:$N$99)=0,0,'2月'!C30-SUMIF('3月'!$V$30:$V$216,'3月'!$B30,'3月'!$U$30:$U$216)+SUMIF('3月'!$L$30:$L$75,'3月'!$B30,'3月'!$K$30:$K$75)-SUMIF('3月'!$J$85:$J$99,'3月'!$B30,'3月'!$K$85:$K$99)+SUMIF('3月'!$L$85:$L$99,'3月'!$B30,'3月'!$N$85:$N$99)),0) -> 701 | M30: =IFERROR(VLOOKUP(L30,年度数据总览!$B$34:$C$51,2,FALSE),"") | W30: =IFERROR(VLOOKUP(V30,年度数据总览!$B$34:$C$51,2,FALSE),"") | AA30: (空白) | AD30: (空白) | AG30: (空白) | AJ30: (空白)
B31: =IF(AND(年度数据总览!B35<>0),年度数据总览!B35,"") -> 微信 | C31: =IFERROR(IF('2月'!C31-SUMIF('3月'!$V$30:$V$216,'3月'!$B31,'3月'!$U$30:$U$216)+SUMIF('3月'!$L$30:$L$75,'3月'!$B31,'3月'!$K$30:$K$75)-SUMIF('3月'!$J$85:$J$99,'3月'!$B31,'3月'!$K$85:$K$99)+SUMIF('3月'!$L$85:$L$99,'3月'!$B31,'3月'!$N$85:$N$99)=0,0,'2月'!C31-SUMIF('3月'!$V$30:$V$216,'3月'!$B31,'3月'!$U$30:$U$216)+SUMIF('3月'!$L$30:$L$75,'3月'!$B31,'3月'!$K$30:$K$75)-SUMIF('3月'!$J$85:$J$99,'3月'!$B31,'3月'!$K$85:$K$99)+SUMIF('3月'!$L$85:$L$99,'3月'!$B31,'3月'!$N$85:$N$99)),0) -> 2300 | M31: =IFERROR(VLOOKUP(L31,年度数据总览!$B$34:$C$51,2,FALSE),"") | W31: =IFERROR(VLOOKUP(V31,年度数据总览!$B$34:$C$51,2,FALSE),"") | AA31: 总计 | AG31: 总计 | AJ31: 总计
B32: =IF(AND(年度数据总览!B36<>0),年度数据总览!B36,"") -> 现金 | C32: =IFERROR(IF('2月'!C32-SUMIF('3月'!$V$30:$V$216,'3月'!$B32,'3月'!$U$30:$U$216)+SUMIF('3月'!$L$30:$L$75,'3月'!$B32,'3月'!$K$30:$K$75)-SUMIF('3月'!$J$85:$J$99,'3月'!$B32,'3月'!$K$85:$K$99)+SUMIF('3月'!$L$85:$L$99,'3月'!$B32,'3月'!$N$85:$N$99)=0,0,'2月'!C32-SUMIF('3月'!$V$30:$V$216,'3月'!$B32,'3月'!$U$30:$U$216)+SUMIF('3月'!$L$30:$L$75,'3月'!$B32,'3月'!$K$30:$K$75)-SUMIF('3月'!$J$85:$J$99,'3月'!$B32,'3月'!$K$85:$K$99)+SUMIF('3月'!$L$85:$L$99,'3月'!$B32,'3月'!$N$85:$N$99)),0) -> 3000 | M32: =IFERROR(VLOOKUP(L32,年度数据总览!$B$34:$C$51,2,FALSE),"") | W32: =IFERROR(VLOOKUP(V32,年度数据总览!$B$34:$C$51,2,FALSE),"")
B33: =IF(AND(年度数据总览!B37<>0),年度数据总览!B37,"") -> XX未还债务 | C33: =IFERROR(IF('2月'!C33-SUMIF('3月'!$V$30:$V$216,'3月'!$B33,'3月'!$U$30:$U$216)+SUMIF('3月'!$L$30:$L$75,'3月'!$B33,'3月'!$K$30:$K$75)-SUMIF('3月'!$J$85:$J$99,'3月'!$B33,'3月'!$K$85:$K$99)+SUMIF('3月'!$L$85:$L$99,'3月'!$B33,'3月'!$N$85:$N$99)=0,0,'2月'!C33-SUMIF('3月'!$V$30:$V$216,'3月'!$B33,'3月'!$U$30:$U$216)+SUMIF('3月'!$L$30:$L$75,'3月'!$B33,'3月'!$K$30:$K$75)-SUMIF('3月'!$J$85:$J$99,'3月'!$B33,'3月'!$K$85:$K$99)+SUMIF('3月'!$L$85:$L$99,'3月'!$B33,'3月'!$N$85:$N$99)),0) -> 3000 | M33: =IFERROR(VLOOKUP(L33,年度数据总览!$B$34:$C$51,2,FALSE),"") | W33: =IFERROR(VLOOKUP(V33,年度数据总览!$B$34:$C$51,2,FALSE),"")
B34: =IF(AND(年度数据总览!B38<>0),年度数据总览!B38,"") -> 中国银行 | C34: =IFERROR(IF('2月'!C34-SUMIF('3月'!$V$30:$V$216,'3月'!$B34,'3月'!$U$30:$U$216)+SUMIF('3月'!$L$30:$L$75,'3月'!$B34,'3月'!$K$30:$K$75)-SUMIF('3月'!$J$85:$J$99,'3月'!$B34,'3月'!$K$85:$K$99)+SUMIF('3月'!$L$85:$L$99,'3月'!$B34,'3月'!$N$85:$N$99)=0,0,'2月'!C34-SUMIF('3月'!$V$30:$V$216,'3月'!$B34,'3月'!$U$30:$U$216)+SUMIF('3月'!$L$30:$L$75,'3月'!$B34,'3月'!$K$30:$K$75)-SUMIF('3月'!$J$85:$J$99,'3月'!$B34,'3月'!$K$85:$K$99)+SUMIF('3月'!$L$85:$L$99,'3月'!$B34,'3月'!$N$85:$N$99)),0) -> 7000 | M34: =IFERROR(VLOOKUP(L34,年度数据总览!$B$34:$C$51,2,FALSE),"") | W34: =IFERROR(VLOOKUP(V34,年度数据总览!$B$34:$C$51,2,FALSE),"")
B35: =IF(AND(年度数据总览!B39<>0),年度数据总览!B39,"") -> 花呗负债 | C35: =IFERROR(IF('2月'!C35-SUMIF('3月'!$V$30:$V$216,'3月'!$B35,'3月'!$U$30:$U$216)+SUMIF('3月'!$L$30:$L$75,'3月'!$B35,'3月'!$K$30:$K$75)-SUMIF('3月'!$J$85:$J$99,'3月'!$B35,'3月'!$K$85:$K$99)+SUMIF('3月'!$L$85:$L$99,'3月'!$B35,'3月'!$N$85:$N$99)=0,0,'2月'!C35-SUMIF('3月'!$V$30:$V$216,'3月'!$B35,'3月'!$U$30:$U$216)+SUMIF('3月'!$L$30:$L$75,'3月'!$B35,'3月'!$K$30:$K$75)-SUMIF('3月'!$J$85:$J$99,'3月'!$B35,'3月'!$K$85:$K$99)+SUMIF('3月'!$L$85:$L$99,'3月'!$B35,'3月'!$N$85:$N$99)),0) -> -1 | M35: =IFERROR(VLOOKUP(L35,年度数据总览!$B$34:$C$51,2,FALSE),"") | W35: =IFERROR(VLOOKUP(V35,年度数据总览!$B$34:$C$51,2,FALSE),"")
B36: =IF(AND(年度数据总览!B40<>0),年度数据总览!B40,"") | C36: =IFERROR(IF('2月'!C36-SUMIF('3月'!$V$30:$V$216,'3月'!$B36,'3月'!$U$30:$U$216)+SUMIF('3月'!$L$30:$L$75,'3月'!$B36,'3月'!$K$30:$K$75)-SUMIF('3月'!$J$85:$J$99,'3月'!$B36,'3月'!$K$85:$K$99)+SUMIF('3月'!$L$85:$L$99,'3月'!$B36,'3月'!$N$85:$N$99)=0,0,'2月'!C36-SUMIF('3月'!$V$30:$V$216,'3月'!$B36,'3月'!$U$30:$U$216)+SUMIF('3月'!$L$30:$L$75,'3月'!$B36,'3月'!$K$30:$K$75)-SUMIF('3月'!$J$85:$J$99,'3月'!$B36,'3月'!$K$85:$K$99)+SUMIF('3月'!$L$85:$L$99,'3月'!$B36,'3月'!$N$85:$N$99)),0) -> 0 | M36: =IFERROR(VLOOKUP(L36,年度数据总览!$B$34:$C$51,2,FALSE),"") | W36: =IFERROR(VLOOKUP(V36,年度数据总览!$B$34:$C$51,2,FALSE),"")
